BEGIN:VCALENDAR
VERSION:2.0
PRODID:-//events.la.psu.edu//EN
CALSCALE:GREGORIAN
BEGIN:VTIMEZONE
TZID:America/New_York
BEGIN:STANDARD
DTSTART:20201101T020000
TZOFFSETFROM:-0400
TZOFFSETTO:-0500
RRULE:FREQ=YEARLY;BYMONTH=11;BYDAY=1SU
END:STANDARD
BEGIN:DAYLIGHT
DTSTART:20200308T020000
TZOFFSETFROM:-0500
TZOFFSETTO:-0400
RRULE:FREQ=YEARLY;BYMONTH=3;BYDAY=2SU
END:DAYLIGHT
END:VTIMEZONE
BEGIN:VEVENT
UID:4727-3f0e5241f6618e1eb641dfe55dba3cfa@events.la.psu.edu
DTSTAMP:20260422T214301Z
DTSTART;TZID=America/New_York:20211118T120000
DTEND;TZID=America/New_York:20211118T130000
SUMMARY:School of Public Policy Fall Speaker Series: \"The Tolls of Uncertainty:
	 How Privilege and the Guilt Gap Shape Unemployment in America\"
DESCRIPTION:\nJoin us on Thursday\, November 18 at Noon EST in 369 Willa
	rd Building for the next event in the School of Public Policy&#39\;s Fal
	l Speaker Series.&nbsp\;\n\nSarah Damaske\, associate professor of socio
	logy and labor and employment relations\, will present &ldquo\;The Tolls
	 of Uncertainty: How Privilege and the Guilt Gap Shape Unemployment in A
	merica.&rdquo\; Damaske is an award-winning author and scholar of unempl
	oyment\, work-family\, and gender. Her books include The Tolls of Uncert
	ainty\, For the Family\, and The Science and&nbsp\;Art of Interviewing. 
	Her research has appeared in The New York Times\,&nbsp\;The Wall Street 
	Journal\, and the BBC.\n\nFor more details: https://events.la.psu.edu/ev
	ent/spp-fss_1118/
X-ALT-DESC;FMTTYPE=text/html:<html><head></head><body><p>Join us on Thur
	sday, November 18 at Noon EST in 369 Willard Building for the next event
	 in the School of Public Policy&#39;s Fall Speaker Series.&nbsp;</p><p>S
	arah Damaske, associate professor of sociology and labor and employment 
	relations, will present &ldquo;The Tolls of Uncertainty: How Privilege a
	nd the Guilt Gap Shape Unemployment in America.&rdquo; Damaske is an awa
	rd-winning author and scholar of unemployment, work-family, and gender. 
	Her books include <i>The Tolls of Uncertainty</i>, <i>For the Family</i>
	, and <i>The Science and&nbsp;Art of Interviewing</i>. Her research has 
	appeared in <i>The New York Times</i>,&nbsp;<i>The Wall Street Journal</
	i>, and the BBC.</p><p>For more details: <a href='https://events.la.psu.
	edu/event/spp-fss_1118/'>https://events.la.psu.edu/event/spp-fss_1118/</
	a></p></body></html>
LOCATION:369 Willard Building
END:VEVENT
END:VCALENDAR