BEGIN:VCALENDAR
VERSION:2.0
PRODID:-//events.la.psu.edu//EN
CALSCALE:GREGORIAN
BEGIN:VTIMEZONE
TZID:America/New_York
BEGIN:STANDARD
DTSTART:20201101T020000
TZOFFSETFROM:-0400
TZOFFSETTO:-0500
RRULE:FREQ=YEARLY;BYMONTH=11;BYDAY=1SU
END:STANDARD
BEGIN:DAYLIGHT
DTSTART:20200308T020000
TZOFFSETFROM:-0500
TZOFFSETTO:-0400
RRULE:FREQ=YEARLY;BYMONTH=3;BYDAY=2SU
END:DAYLIGHT
END:VTIMEZONE
BEGIN:VEVENT
UID:3543-7a47c5075bc35c78be422056ddd81fb2@events.la.psu.edu
DTSTAMP:20260419T171301Z
DTSTART;TZID=America/New_York:20230302T143000
DTEND;TZID=America/New_York:20230302T040000
SUMMARY:“‘Weren’t We a Lot Like Those Creatures?’: Locusts, Place, and the Armen
	ian Genocide, 1915–1918”
DESCRIPTION:\nFaisal Husain is hosting guest speaker Samuel Dolbee\, ass
	istant professor of history at Vanderbilt University\, to present a lect
	ure.\n\nFor more details: https://events.la.psu.edu/event/samuel-dolbee_
	030223/
X-ALT-DESC;FMTTYPE=text/html:<html><head></head><body><p>Faisal Husain i
	s hosting guest speaker Samuel Dolbee, assistant professor of history at
	 Vanderbilt University, to present a lecture.</p><p>For more details: <a
	 href='https://events.la.psu.edu/event/samuel-dolbee_030223/'>https://ev
	ents.la.psu.edu/event/samuel-dolbee_030223/</a></p></body></html>
LOCATION:Foster Auditorium, 102 Paterno Library
END:VEVENT
END:VCALENDAR