BEGIN:VCALENDAR
VERSION:2.0
PRODID:-//events.la.psu.edu//EN
CALSCALE:GREGORIAN
BEGIN:VTIMEZONE
TZID:America/New_York
BEGIN:STANDARD
DTSTART:20201101T020000
TZOFFSETFROM:-0400
TZOFFSETTO:-0500
RRULE:FREQ=YEARLY;BYMONTH=11;BYDAY=1SU
END:STANDARD
BEGIN:DAYLIGHT
DTSTART:20200308T020000
TZOFFSETFROM:-0500
TZOFFSETTO:-0400
RRULE:FREQ=YEARLY;BYMONTH=3;BYDAY=2SU
END:DAYLIGHT
END:VTIMEZONE
BEGIN:VEVENT
UID:11936-59d9e462e3f971d05789eda7fc5bd639@events.la.psu.edu
DTSTAMP:20260424T153026Z
DTSTART;TZID=America/New_York:20250320T180000
DTEND;TZID=America/New_York:20250320T193000
SUMMARY:Rolling Reading Series presents Adrienne Su
DESCRIPTION:\nAdrienne Su is the author of five books of poetry\, most r
	ecently Peach State (2021) and Living Quarters (2015)\, and one collecti
	on of essays\, Hot\, Sour\, Salty\, Sweet (2024)\, which focuses on food
	 and poetry. Her awards include an NEA fellowship and residencies at Yad
	do\, Virginia Center for the Creative Arts\, and Vermont Studio Center. 
	She is professor of creative writing at Dickinson College.\n\nFor more d
	etails: https://events.la.psu.edu/event/rolling-reading-series-adrienne-
	su/
X-ALT-DESC;FMTTYPE=text/html:<html><head></head><body><p>Adrienne Su is 
	the author of five books of poetry, most recently <em>Peach State</em> (
	2021) and <em>Living Quarters</em> (2015), and one collection of essays,
	 <em>Hot, Sour, Salty, Sweet</em> (2024), which focuses on food and poet
	ry. Her awards include an NEA fellowship and residencies at Yaddo, Virgi
	nia Center for the Creative Arts, and Vermont Studio Center. She is prof
	essor of creative writing at Dickinson College.</p><p>For more details: 
	<a href='https://events.la.psu.edu/event/rolling-reading-series-adrienne
	-su/'>https://events.la.psu.edu/event/rolling-reading-series-adrienne-su
	/</a></p></body></html>
LOCATION:Foster Auditorium, 102 Paterno Library
END:VEVENT
END:VCALENDAR