BEGIN:VCALENDAR
VERSION:2.0
PRODID:-//events.la.psu.edu//EN
CALSCALE:GREGORIAN
BEGIN:VTIMEZONE
TZID:America/New_York
BEGIN:STANDARD
DTSTART:20201101T020000
TZOFFSETFROM:-0400
TZOFFSETTO:-0500
RRULE:FREQ=YEARLY;BYMONTH=11;BYDAY=1SU
END:STANDARD
BEGIN:DAYLIGHT
DTSTART:20200308T020000
TZOFFSETFROM:-0500
TZOFFSETTO:-0400
RRULE:FREQ=YEARLY;BYMONTH=3;BYDAY=2SU
END:DAYLIGHT
END:VTIMEZONE
BEGIN:VEVENT
UID:18534-162bbf2f59faa0e3120988363e64b513@events.la.psu.edu
DTSTAMP:20260423T210657Z
DTSTART;TZID=America/New_York:20260218T120000
DTEND;TZID=America/New_York:20260218T130000
SUMMARY:Lunch and Learn: The Résumé vs. The Reality
DESCRIPTION:\nOver-involved? Let’s talk about it.\n\nA conversation abou
	t the pressure to constantly build your résumé and the reality behind be
	ing over-involved.\n\nAdvance registration required. Jersey Mike’s will 
	be provided!\n\nFor more details: https://events.la.psu.edu/event/ll-res
	ume-reality/
X-ALT-DESC;FMTTYPE=text/html:<html><head></head><body><p>Over-involved? 
	Let’s talk about it.</p><p>A conversation about the pressure to constant
	ly build your résumé and the reality behind being over-involved.</p><p>A
	dvance registration required. Jersey Mike’s will be provided!</p><p>For 
	more details: <a href='https://events.la.psu.edu/event/ll-resume-reality
	/'>https://events.la.psu.edu/event/ll-resume-reality/</a></p></body></ht
	ml>
LOCATION:Liberal Arts Chaiken Center for Student Success, 139 Sparks Building
END:VEVENT
END:VCALENDAR