BEGIN:VCALENDAR
VERSION:2.0
PRODID:-//events.la.psu.edu//EN
CALSCALE:GREGORIAN
BEGIN:VTIMEZONE
TZID:America/New_York
BEGIN:STANDARD
DTSTART:20201101T020000
TZOFFSETFROM:-0400
TZOFFSETTO:-0500
RRULE:FREQ=YEARLY;BYMONTH=11;BYDAY=1SU
END:STANDARD
BEGIN:DAYLIGHT
DTSTART:20200308T020000
TZOFFSETFROM:-0500
TZOFFSETTO:-0400
RRULE:FREQ=YEARLY;BYMONTH=3;BYDAY=2SU
END:DAYLIGHT
END:VTIMEZONE
BEGIN:VEVENT
UID:3648-1db5977e60537053e0c9a97f743e1431@events.la.psu.edu
DTSTAMP:20260423T041410Z
DTSTART;TZID=America/New_York:20230206T093000
DTEND;TZID=America/New_York:20230206T123000
SUMMARY:Liberal Arts Virtual Recruiting Week: Strawberry Fields, Inc.
DESCRIPTION:\nVirtually meet with a recuiter from Strawberry Fields\, In
	c. to learn more about the company\, internship and full-time positions\
	, application process\, and expand your network.\n\nCheck out the Strawb
	erry Fields\, Inc. career page for details on open positions! Some posit
	ions may also be posted in Nittany Lion Careers.\n\nRegister by February
	 4 in Nittany Lion Careers. Details below.\n\nVirtual Recruiting Week is
	 organized by the Liberal Arts Career Enrichment Network. If you have qu
	estions\, please contact lanetwork@psu.edu or call 814-865-1070.\n\nPlea
	se register for a time slot that fits your schedule by February 4 at 11:
	59 p.m.\n\nRegistered students will be emailed the Zoom link and passwor
	d on February 5 in preparation for the recruiting office hours the next 
	day. Please arrive at your scheduled meeting time on Monday\, February 6
	 and use your Penn State log-in for Zoom.\n\nFor more details: https://e
	vents.la.psu.edu/event/liberal_arts_virtual_recruiting_week_strawberry_f
	ields_inc/
X-ALT-DESC;FMTTYPE=text/html:<html><head></head><body><p>Virtually meet 
	with a recuiter from <a href="https://sfionline.org/">Strawberry Fields,
	 Inc.</a> to learn more about the company, internship and full-time posi
	tions, application process, and expand your network.</p><p>Check out the
	 <a href="https://sfionline.org/employment-opportunities/">Strawberry Fi
	elds, Inc. career page</a> for details on open positions! Some positions
	 may also be posted in Nittany Lion Careers.</p><p><b><a href="https://p
	ennstate-csm.symplicity.com/students/?s=event&amp;ss=is&amp;mode=form&am
	p;id=3c0971da894288a54fca3ca79d9574c5&amp;signin_tab=0&amp;signin_tab=0"
	>Register by February 4 in Nittany Lion Career</a>s. Details below.</b><
	/p><p><i><a href="https://la.psu.edu/current-students/undergraduate-stud
	ents/experiences/liberal-arts-virtual-recruiting-week">Virtual Recruitin
	g Week</a> is organized by the <a href="https://la.psu.edu/current-stude
	nts/undergraduate-students/college-offices/career-enrichment-network">Li
	beral Arts Career Enrichment Network</a>. If you have questions, please 
	contact <a href="mailto:lanetwork@psu.edu">lanetwork@psu.edu</a> or call
	 814-865-1070.</i></p><p><b><a href="https://pennstate-csm.symplicity.co
	m/students/?s=event&amp;ss=is&amp;mode=form&amp;id=3c0971da894288a54fca3
	ca79d9574c5&amp;signin_tab=0&amp;signin_tab=0">Please register for a tim
	e slot</a> that fits your schedule</b> by February 4 at 11:59 p.m.</p><p
	>Registered students will be emailed the Zoom link and password on Febru
	ary 5 in preparation for the recruiting office hours the next day. Pleas
	e arrive at your scheduled meeting time on Monday, February 6 and use yo
	ur Penn State log-in for Zoom.</p><p>For more details: <a href='https://
	events.la.psu.edu/event/liberal_arts_virtual_recruiting_week_strawberry_
	fields_inc/'>https://events.la.psu.edu/event/liberal_arts_virtual_recrui
	ting_week_strawberry_fields_inc/</a></p></body></html>
URL:https://la.psu.edu/current-students/undergraduate-students/experiences/l
	iberal-arts-virtual-recruiting-week
END:VEVENT
END:VCALENDAR