BEGIN:VCALENDAR
VERSION:2.0
PRODID:-//events.la.psu.edu//EN
CALSCALE:GREGORIAN
BEGIN:VTIMEZONE
TZID:America/New_York
BEGIN:STANDARD
DTSTART:20201101T020000
TZOFFSETFROM:-0400
TZOFFSETTO:-0500
RRULE:FREQ=YEARLY;BYMONTH=11;BYDAY=1SU
END:STANDARD
BEGIN:DAYLIGHT
DTSTART:20200308T020000
TZOFFSETFROM:-0500
TZOFFSETTO:-0400
RRULE:FREQ=YEARLY;BYMONTH=3;BYDAY=2SU
END:DAYLIGHT
END:VTIMEZONE
BEGIN:VEVENT
UID:16080-c1d5c54d7626973404b4621338914a00@events.la.psu.edu
DTSTAMP:20260426T024932Z
DTSTART;TZID=America/New_York:20260408T090000
DTEND;TZID=America/New_York:20260408T160000
SUMMARY:German Day 2026
DESCRIPTION:\nGerman Day is an annual community outreach event hosted by
	 the Department of Germanic and Slavic Languages and Literatures. Approx
	imately 500 German-learning high school students from all over Pennsylva
	nia spend a day at Penn State\, compete in individual or team contests\,
	 and celebrate the German language.\n\nFor more details: https://events.
	la.psu.edu/event/german-day-2026/
X-ALT-DESC;FMTTYPE=text/html:<html><head></head><body><p>German Day is a
	n annual community outreach event hosted by the Department of Germanic a
	nd Slavic Languages and Literatures. Approximately 500 German-learning h
	igh school students from all over Pennsylvania spend a day at Penn State
	, compete in individual or team contests, and celebrate the German langu
	age.</p><p>For more details: <a href='https://events.la.psu.edu/event/ge
	rman-day-2026/'>https://events.la.psu.edu/event/german-day-2026/</a></p>
	</body></html>
URL:https://sites.psu.edu/germanday/
LOCATION:HUB-Robeson Center
END:VEVENT
END:VCALENDAR