BEGIN:VCALENDAR
VERSION:2.0
PRODID:-//events.la.psu.edu//EN
CALSCALE:GREGORIAN
BEGIN:VTIMEZONE
TZID:America/New_York
BEGIN:STANDARD
DTSTART:20201101T020000
TZOFFSETFROM:-0400
TZOFFSETTO:-0500
RRULE:FREQ=YEARLY;BYMONTH=11;BYDAY=1SU
END:STANDARD
BEGIN:DAYLIGHT
DTSTART:20200308T020000
TZOFFSETFROM:-0500
TZOFFSETTO:-0400
RRULE:FREQ=YEARLY;BYMONTH=3;BYDAY=2SU
END:DAYLIGHT
END:VTIMEZONE
BEGIN:VEVENT
UID:3669-871bda38848c3d2c71d8ae7cbf354090@events.la.psu.edu
DTSTAMP:20260421T030001Z
DTSTART;VALUE=DATE:20230109
SUMMARY:Register for the 2023 Darwin Day Step Challenge
DESCRIPTION:\nCan you be the fittest?\n\nHow many steps do you take in a
	 day? How does your activity affect your sleep habits? Stress levels? Ap
	petite?\n\nCompete in the 2023 Darwin Day Step Challenge from January 30
	&ndash\;February 5 to find out!\n\nRegistration will be open from Januar
	y 9&ndash\;28 for individuals or teams (limit of ten members). Participa
	nts will be required to fill out an initial demographic survey. From the
	re\, use your preferred fitness tracker or phone app to monitor your ste
	ps. A brief daily survey will ask about your sleep\, stress\, and appeti
	te\, along with your step count.\n\nBecause the Step Challenge is simila
	r to data collected by our Darwin Day speaker Herman Pontzer in his rese
	arch\, winners will be announced at the Darwin Day Lecture on Wednesday\
	,&nbsp\;February 22.\n\nPrizes will be awarded to the top three results 
	in three categories:\n\n	Total Steps Individual\n	Total Steps Team\n	Hig
	hest Average Steps Team\n\nFor more details: https://events.la.psu.edu/e
	vent/darwin-day_step-challenge/
X-ALT-DESC;FMTTYPE=text/html:<html><head></head><body><p><b>Can you be t
	he fittest?</b></p><p>How many steps do you take in a day? How does your
	 activity affect your sleep habits? Stress levels? Appetite?</p><p>Compe
	te in the 2023 Darwin Day Step Challenge from <u>January 30&ndash;Februa
	ry 5</u> to find out!</p><p>Registration will be open from <u>January 9&
	ndash;28</u> for individuals or teams (limit of ten members). Participan
	ts will be required to fill out an initial demographic survey. From ther
	e, use your preferred fitness tracker or phone app to monitor your steps
	. A brief daily survey will ask about your sleep, stress, and appetite, 
	along with your step count.</p><p>Because the Step Challenge is similar 
	to data collected by our Darwin Day speaker Herman Pontzer in his resear
	ch, winners will be announced at the Darwin Day Lecture on <u>Wednesday,
	&nbsp;February 22</u>.</p><p>Prizes will be awarded to the top three res
	ults in three categories:</p><ul>	<li>Total Steps Individual</li>	<li>To
	tal Steps Team</li>	<li>Highest Average Steps Team</li></ul><p>For more 
	details: <a href='https://events.la.psu.edu/event/darwin-day_step-challe
	nge/'>https://events.la.psu.edu/event/darwin-day_step-challenge/</a></p>
	</body></html>
URL:https://ched.la.psu.edu/2023-darwin-day-step-challenge/
END:VEVENT
BEGIN:VEVENT
UID:3669-694342c3b74434078cf38509879badac@events.la.psu.edu
DTSTAMP:20260421T030001Z
DTSTART;TZID=America/New_York:20230128T235900
DTEND;TZID=America/New_York:20230128T235900
SUMMARY:Register for the 2023 Darwin Day Step Challenge
DESCRIPTION:\nCan you be the fittest?\n\nHow many steps do you take in a
	 day? How does your activity affect your sleep habits? Stress levels? Ap
	petite?\n\nCompete in the 2023 Darwin Day Step Challenge from January 30
	&ndash\;February 5 to find out!\n\nRegistration will be open from Januar
	y 9&ndash\;28 for individuals or teams (limit of ten members). Participa
	nts will be required to fill out an initial demographic survey. From the
	re\, use your preferred fitness tracker or phone app to monitor your ste
	ps. A brief daily survey will ask about your sleep\, stress\, and appeti
	te\, along with your step count.\n\nBecause the Step Challenge is simila
	r to data collected by our Darwin Day speaker Herman Pontzer in his rese
	arch\, winners will be announced at the Darwin Day Lecture on Wednesday\
	,&nbsp\;February 22.\n\nPrizes will be awarded to the top three results 
	in three categories:\n\n	Total Steps Individual\n	Total Steps Team\n	Hig
	hest Average Steps Team\n\nFor more details: https://events.la.psu.edu/e
	vent/darwin-day_step-challenge/
X-ALT-DESC;FMTTYPE=text/html:<html><head></head><body><p><b>Can you be t
	he fittest?</b></p><p>How many steps do you take in a day? How does your
	 activity affect your sleep habits? Stress levels? Appetite?</p><p>Compe
	te in the 2023 Darwin Day Step Challenge from <u>January 30&ndash;Februa
	ry 5</u> to find out!</p><p>Registration will be open from <u>January 9&
	ndash;28</u> for individuals or teams (limit of ten members). Participan
	ts will be required to fill out an initial demographic survey. From ther
	e, use your preferred fitness tracker or phone app to monitor your steps
	. A brief daily survey will ask about your sleep, stress, and appetite, 
	along with your step count.</p><p>Because the Step Challenge is similar 
	to data collected by our Darwin Day speaker Herman Pontzer in his resear
	ch, winners will be announced at the Darwin Day Lecture on <u>Wednesday,
	&nbsp;February 22</u>.</p><p>Prizes will be awarded to the top three res
	ults in three categories:</p><ul>	<li>Total Steps Individual</li>	<li>To
	tal Steps Team</li>	<li>Highest Average Steps Team</li></ul><p>For more 
	details: <a href='https://events.la.psu.edu/event/darwin-day_step-challe
	nge/'>https://events.la.psu.edu/event/darwin-day_step-challenge/</a></p>
	</body></html>
URL:https://ched.la.psu.edu/2023-darwin-day-step-challenge/
END:VEVENT
END:VCALENDAR