BEGIN:VCALENDAR
VERSION:2.0
PRODID:-//events.la.psu.edu//EN
CALSCALE:GREGORIAN
BEGIN:VTIMEZONE
TZID:America/New_York
BEGIN:STANDARD
DTSTART:20201101T020000
TZOFFSETFROM:-0400
TZOFFSETTO:-0500
RRULE:FREQ=YEARLY;BYMONTH=11;BYDAY=1SU
END:STANDARD
BEGIN:DAYLIGHT
DTSTART:20200308T020000
TZOFFSETFROM:-0500
TZOFFSETTO:-0400
RRULE:FREQ=YEARLY;BYMONTH=3;BYDAY=2SU
END:DAYLIGHT
END:VTIMEZONE
BEGIN:VEVENT
UID:4538-12c88a63c25165f66b32f718ca125edb@events.la.psu.edu
DTSTAMP:20260420T062012Z
DTSTART;TZID=America/New_York:20220225T120000
DTEND;TZID=America/New_York:20220225T140000
SUMMARY:Find Out More Fridays: How can a peer success coach support me in my jou
	rney as a college student?
DESCRIPTION:\n*THIS EVENT HAS BEEN CANCELED DUE TO WINTER WEATHER.*\n\nD
	rop by the Chaiken Center for Student Success&nbsp\;to chat&nbsp\;with a
	 student support&nbsp\;staff member and learn&nbsp\;about a resource or 
	opportunity that could help you achieve&nbsp\;your academic\, personal\,
	 or professional goals.\n\nThe Chaiken Center&#39\;s peer success coache
	s work one-on-one with students through challenges and opportunities ass
	ociated with college\, including how to connect with the right opportuni
	ties at Penn State. Stop by&nbsp\;to find out how a&nbsp\;peer success c
	oach can support you in your journey as a college student.\n\nWayfinding
	 Wednesdays and Find Out More Fridays will take place through the end of
	 April. See the full schedule at la.psu.edu/chaiken-center.\n\n&nbsp\;\n
	\nFor more details: https://events.la.psu.edu/event/cc-fomf_0225/
X-ALT-DESC;FMTTYPE=text/html:<html><head></head><body><p><b>*THIS EVENT 
	HAS BEEN CANCELED DUE TO WINTER WEATHER.*</b></p><p>Drop by the Chaiken 
	Center for Student Success&nbsp;to chat&nbsp;with a student support&nbsp
	;staff member and learn&nbsp;about a resource or opportunity that could 
	help you achieve&nbsp;your academic, personal, or professional goals.</p
	><p>The Chaiken Center&#39;s peer success coaches work one-on-one with s
	tudents through challenges and opportunities associated with college, in
	cluding how to connect with the right opportunities at Penn State. Stop 
	by&nbsp;to find out how a&nbsp;peer success coach can support you in you
	r journey as a college student.</p><p>Wayfinding Wednesdays and Find Out
	 More Fridays will take place through the end of April. See the full sch
	edule at <a href="https://la.psu.edu/chaiken-center">la.psu.edu/chaiken-
	center</a>.</p><p>&nbsp;</p><p>For more details: <a href='https://events
	.la.psu.edu/event/cc-fomf_0225/'>https://events.la.psu.edu/event/cc-fomf
	_0225/</a></p></body></html>
URL:http://la.psu.edu/chaikencenter
LOCATION:101 Burrowes Building
END:VEVENT
END:VCALENDAR