BEGIN:VCALENDAR
VERSION:2.0
PRODID:-//events.la.psu.edu//EN
CALSCALE:GREGORIAN
BEGIN:VTIMEZONE
TZID:America/New_York
BEGIN:STANDARD
DTSTART:20201101T020000
TZOFFSETFROM:-0400
TZOFFSETTO:-0500
RRULE:FREQ=YEARLY;BYMONTH=11;BYDAY=1SU
END:STANDARD
BEGIN:DAYLIGHT
DTSTART:20200308T020000
TZOFFSETFROM:-0500
TZOFFSETTO:-0400
RRULE:FREQ=YEARLY;BYMONTH=3;BYDAY=2SU
END:DAYLIGHT
END:VTIMEZONE
BEGIN:VEVENT
UID:6049-f150c512c0c8337a7a25d9d13170ef55@events.la.psu.edu
DTSTAMP:20260421T035447Z
DTSTART;TZID=America/New_York:20191101T143000
DTEND;TZID=America/New_York:20191101T163000
SUMMARY:Attending Academic Conferences
DESCRIPTION:\nTIps from Faculty on Presenting Your Work and Yourself\n\n
	For more details: https://events.la.psu.edu/event/attending_academic_con
	ferences/
X-ALT-DESC;FMTTYPE=text/html:<html><head></head><body><p>TIps from Facul
	ty on Presenting Your Work and Yourself</p><p>For more details: <a href=
	'https://events.la.psu.edu/event/attending_academic_conferences/'>https:
	//events.la.psu.edu/event/attending_academic_conferences/</a></p></body>
	</html>
LOCATION:062 Willard Building
END:VEVENT
END:VCALENDAR