BEGIN:VCALENDAR
VERSION:2.0
PRODID:-//events.la.psu.edu//EN
CALSCALE:GREGORIAN
BEGIN:VTIMEZONE
TZID:America/New_York
BEGIN:STANDARD
DTSTART:20201101T020000
TZOFFSETFROM:-0400
TZOFFSETTO:-0500
RRULE:FREQ=YEARLY;BYMONTH=11;BYDAY=1SU
END:STANDARD
BEGIN:DAYLIGHT
DTSTART:20200308T020000
TZOFFSETFROM:-0500
TZOFFSETTO:-0400
RRULE:FREQ=YEARLY;BYMONTH=3;BYDAY=2SU
END:DAYLIGHT
END:VTIMEZONE
BEGIN:VEVENT
UID:15618-c065497161b98664e7760404329528b8@events.la.psu.edu
DTSTAMP:20260421T055315Z
DTSTART;TZID=America/New_York:20251030T170000
DTEND;TZID=America/New_York:20251030T183000
SUMMARY:Workshop: Writing Introductions and Methods Sections in Research Papers
DESCRIPTION:\nIn this workshop you will:\n\nConsider different types of 
	papers commonly found in academia\nDiscuss which elements of introductio
	n and methods sections are prevalent in your field\nReview sentence stru
	ctures commonly used in these sections\nAnalyze sample texts for useful 
	phrases and patterns\n\nFor more details: https://events.la.psu.edu/even
	t/writing-introductions/
X-ALT-DESC;FMTTYPE=text/html:<html><head></head><body><p>In this worksho
	p you will:</p><ul><li>Consider different types of papers commonly found
	 in academia</li><li>Discuss which elements of introduction and methods 
	sections are prevalent in your field</li><li>Review sentence structures 
	commonly used in these sections</li><li>Analyze sample texts for useful 
	phrases and patterns</li></ul><p>For more details: <a href='https://even
	ts.la.psu.edu/event/writing-introductions/'>https://events.la.psu.edu/ev
	ent/writing-introductions/</a></p></body></html>
URL:https://apps.powerapps.com/play/e/04aa84d0-9caa-e13c-97b1-d9b7005e3800/a
	/92f8e783-cdca-41ce-9573-ade17de85106?tenantId=7cf48d45-3ddb-4389-a9c1-c
	115526eb52e&amp;source=AppSharedV3&amp;hint=356fe4c9-150f-4e34-9070-c044
	6578f67d
END:VEVENT
END:VCALENDAR