BEGIN:VCALENDAR
VERSION:2.0
PRODID:-//events.la.psu.edu//EN
CALSCALE:GREGORIAN
BEGIN:VTIMEZONE
TZID:America/New_York
BEGIN:STANDARD
DTSTART:20201101T020000
TZOFFSETFROM:-0400
TZOFFSETTO:-0500
RRULE:FREQ=YEARLY;BYMONTH=11;BYDAY=1SU
END:STANDARD
BEGIN:DAYLIGHT
DTSTART:20200308T020000
TZOFFSETFROM:-0500
TZOFFSETTO:-0400
RRULE:FREQ=YEARLY;BYMONTH=3;BYDAY=2SU
END:DAYLIGHT
END:VTIMEZONE
BEGIN:VEVENT
UID:17417-79709f5d13eb5afccf08851e1f599286@events.la.psu.edu
DTSTAMP:20260422T172009Z
DTSTART;TZID=America/New_York:20251027T121500
DTEND;TZID=America/New_York:20251027T131500
SUMMARY:Workshop: Word documents and PowerPoint
DESCRIPTION:\nPlease register at: https://forms.office.com/r/SMVsQt5Tbq\
	n\nPlease use the contact DPI form to request additional accessibility r
	emediation help: https://digital.la.psu.edu/contact/\n\nFor more details
	: https://events.la.psu.edu/event/workshop-word-documents-and-powerpoint
	-3/
X-ALT-DESC;FMTTYPE=text/html:<html><head></head><body><p>Please register
	 at: <a href="https://forms.office.com/r/SMVsQt5Tbq">https://forms.offic
	e.com/r/SMVsQt5Tbq</a></p><p>Please use the contact DPI form to request 
	additional accessibility remediation help: https://digital.la.psu.edu/co
	ntact/</p><p>For more details: <a href='https://events.la.psu.edu/event/
	workshop-word-documents-and-powerpoint-3/'>https://events.la.psu.edu/eve
	nt/workshop-word-documents-and-powerpoint-3/</a></p></body></html>
URL:https://forms.office.com/r/SMVsQt5Tbq 
LOCATION:124 Sparks Building
END:VEVENT
END:VCALENDAR