BEGIN:VCALENDAR
VERSION:2.0
PRODID:-//events.la.psu.edu//EN
CALSCALE:GREGORIAN
BEGIN:VTIMEZONE
TZID:America/New_York
BEGIN:STANDARD
DTSTART:20201101T020000
TZOFFSETFROM:-0400
TZOFFSETTO:-0500
RRULE:FREQ=YEARLY;BYMONTH=11;BYDAY=1SU
END:STANDARD
BEGIN:DAYLIGHT
DTSTART:20200308T020000
TZOFFSETFROM:-0500
TZOFFSETTO:-0400
RRULE:FREQ=YEARLY;BYMONTH=3;BYDAY=2SU
END:DAYLIGHT
END:VTIMEZONE
BEGIN:VEVENT
UID:17415-0de2ba815c3c9240536eeda9ae673300@events.la.psu.edu
DTSTAMP:20260420T052936Z
DTSTART;TZID=America/New_York:20251023T120000
DTEND;TZID=America/New_York:20251023T130000
SUMMARY:Workshop: Word Documents and PowerPoint
DESCRIPTION:\nPlease register at:  https://forms.office.com/r/SMVsQt5Tbq
	\n\nPlease use the contact DPI form to request additional accessibility 
	remediation help: https://digital.la.psu.edu/contact/\n\nFor more detail
	s: https://events.la.psu.edu/event/workshop-word-documents-and-powerpoin
	t-2/
X-ALT-DESC;FMTTYPE=text/html:<html><head></head><body><p>Please register
	 at:  <a href="https://forms.office.com/r/SMVsQt5Tbq">https://forms.offi
	ce.com/r/SMVsQt5Tbq</a></p><p>Please use the contact DPI form to request
	 additional accessibility remediation help: https://digital.la.psu.edu/c
	ontact/</p><p>For more details: <a href='https://events.la.psu.edu/event
	/workshop-word-documents-and-powerpoint-2/'>https://events.la.psu.edu/ev
	ent/workshop-word-documents-and-powerpoint-2/</a></p></body></html>
URL:https://forms.office.com/r/SMVsQt5Tbq
LOCATION:133 Sparks Building
END:VEVENT
END:VCALENDAR