BEGIN:VCALENDAR
VERSION:2.0
PRODID:-//events.la.psu.edu//EN
CALSCALE:GREGORIAN
BEGIN:VTIMEZONE
TZID:America/New_York
BEGIN:STANDARD
DTSTART:20201101T020000
TZOFFSETFROM:-0400
TZOFFSETTO:-0500
RRULE:FREQ=YEARLY;BYMONTH=11;BYDAY=1SU
END:STANDARD
BEGIN:DAYLIGHT
DTSTART:20200308T020000
TZOFFSETFROM:-0500
TZOFFSETTO:-0400
RRULE:FREQ=YEARLY;BYMONTH=3;BYDAY=2SU
END:DAYLIGHT
END:VTIMEZONE
BEGIN:VEVENT
UID:17419-0988e7696b6788e4ae73b4b9ba5af420@events.la.psu.edu
DTSTAMP:20260422T183531Z
DTSTART;TZID=America/New_York:20251028T120000
DTEND;TZID=America/New_York:20251028T130000
SUMMARY:Workshop: PDF Documents
DESCRIPTION:\nPlease register at:  https://forms.office.com/r/SMVsQt5Tbq
	 \n\nPlease use the contact DPI form to request additional accessibility
	 remediation help: https://digital.la.psu.edu/contact/\n\nFor more detai
	ls: https://events.la.psu.edu/event/workshop-pdf-documents-3/
X-ALT-DESC;FMTTYPE=text/html:<html><head></head><body><p>Please register
	 at:  <a href="https://forms.office.com/r/SMVsQt5Tbq">https://forms.offi
	ce.com/r/SMVsQt5Tbq </a></p><p>Please use the contact DPI form to reques
	t additional accessibility remediation help: <a href="https://digital.la
	.psu.edu/contact/">https://digital.la.psu.edu/contact/</a></p><p>For mor
	e details: <a href='https://events.la.psu.edu/event/workshop-pdf-documen
	ts-3/'>https://events.la.psu.edu/event/workshop-pdf-documents-3/</a></p>
	</body></html>
URL:https://forms.office.com/r/SMVsQt5Tbq
LOCATION:463 Burrowes Building
END:VEVENT
END:VCALENDAR