BEGIN:VCALENDAR
VERSION:2.0
PRODID:-//events.la.psu.edu//EN
CALSCALE:GREGORIAN
BEGIN:VTIMEZONE
TZID:America/New_York
BEGIN:STANDARD
DTSTART:20201101T020000
TZOFFSETFROM:-0400
TZOFFSETTO:-0500
RRULE:FREQ=YEARLY;BYMONTH=11;BYDAY=1SU
END:STANDARD
BEGIN:DAYLIGHT
DTSTART:20200308T020000
TZOFFSETFROM:-0500
TZOFFSETTO:-0400
RRULE:FREQ=YEARLY;BYMONTH=3;BYDAY=2SU
END:DAYLIGHT
END:VTIMEZONE
BEGIN:VEVENT
UID:5928-003bf20b31c629a15b2edd607ee855dd@events.la.psu.edu
DTSTAMP:20260420T001136Z
DTSTART;TZID=America/New_York:20200122T153000
DTEND;TZID=America/New_York:20200122T170000
SUMMARY:WGSS Coffee Hour
DESCRIPTION:\nAssistant Professor of Art Education &amp\; Women&rsquo\;s
	\, Gender\, and Sexuality Studies\,&nbsp\;Dr. Bae-Dimitriadis\, speaks o
	n:&nbsp\;(Re)imagining Urban Space: Subaltern Mobile Cartographies of Re
	fugee Girls\n\nFor more details: https://events.la.psu.edu/event/wgss_co
	ffee_hour/
X-ALT-DESC;FMTTYPE=text/html:<html><head></head><body><p>Assistant Profe
	ssor of Art Education &amp; Women&rsquo;s, Gender, and Sexuality Studies
	,&nbsp;Dr. Bae-Dimitriadis, speaks on:&nbsp;<i>(Re)imagining Urban Space
	: Subaltern Mobile Cartographies of Refugee Girls</i></p><p>For more det
	ails: <a href='https://events.la.psu.edu/event/wgss_coffee_hour/'>https:
	//events.la.psu.edu/event/wgss_coffee_hour/</a></p></body></html>
LOCATION:309 Sparks Building
END:VEVENT
END:VCALENDAR