BEGIN:VCALENDAR
VERSION:2.0
PRODID:-//events.la.psu.edu//EN
CALSCALE:GREGORIAN
BEGIN:VTIMEZONE
TZID:America/New_York
BEGIN:STANDARD
DTSTART:20201101T020000
TZOFFSETFROM:-0400
TZOFFSETTO:-0500
RRULE:FREQ=YEARLY;BYMONTH=11;BYDAY=1SU
END:STANDARD
BEGIN:DAYLIGHT
DTSTART:20200308T020000
TZOFFSETFROM:-0500
TZOFFSETTO:-0400
RRULE:FREQ=YEARLY;BYMONTH=3;BYDAY=2SU
END:DAYLIGHT
END:VTIMEZONE
BEGIN:VEVENT
UID:13570-376de7fba0c04c25d2f1f9c432a7b5b0@events.la.psu.edu
DTSTAMP:20260421T014037Z
DTSTART;TZID=America/New_York:20211101T080000
DTEND;TZID=America/New_York:20211101T190000
SUMMARY:Virtual Signing Ceremony
DESCRIPTION:\nThe ceremony sets up a new collaborative program involving
	 Chinese language study and Penn State/NTNU (Taiwan Huayu BEST Program).
	 President Barron\, the president of NTNU\, and twenty-five other guests
	 from the NTNU\, the Taiwanese “Consulate” in New York (TECO)\, and Penn
	 State Asian Studies will be in attendance.\n\nFor more details: https:/
	/events.la.psu.edu/event/virtual-signing-ceremony/
X-ALT-DESC;FMTTYPE=text/html:<html><head></head><body><p>The ceremony se
	ts up a new collaborative program involving Chinese language study and P
	enn State/NTNU (Taiwan Huayu BEST Program). President Barron, the presid
	ent of NTNU, and twenty-five other guests from the NTNU, the Taiwanese “
	Consulate” in New York (TECO), and Penn State Asian Studies will be in a
	ttendance.</p><p>For more details: <a href='https://events.la.psu.edu/ev
	ent/virtual-signing-ceremony/'>https://events.la.psu.edu/event/virtual-s
	igning-ceremony/</a></p></body></html>
END:VEVENT
END:VCALENDAR