BEGIN:VCALENDAR
VERSION:2.0
PRODID:-//events.la.psu.edu//EN
CALSCALE:GREGORIAN
BEGIN:VTIMEZONE
TZID:America/New_York
BEGIN:STANDARD
DTSTART:20201101T020000
TZOFFSETFROM:-0400
TZOFFSETTO:-0500
RRULE:FREQ=YEARLY;BYMONTH=11;BYDAY=1SU
END:STANDARD
BEGIN:DAYLIGHT
DTSTART:20200308T020000
TZOFFSETFROM:-0500
TZOFFSETTO:-0400
RRULE:FREQ=YEARLY;BYMONTH=3;BYDAY=2SU
END:DAYLIGHT
END:VTIMEZONE
BEGIN:VEVENT
UID:16585-e571846e4bf700deebda2c5ca88a9a03@events.la.psu.edu
DTSTAMP:20260421T201407Z
DTSTART;TZID=America/New_York:20251015T170000
DTEND;TZID=America/New_York:20251015T170000
SUMMARY:Trailblazers Panel: You Are Not Alone
DESCRIPTION:\nHear from first-generation Penn State students as they sha
	re their journeys navigating higher education—the challenges\, successes
	\, and lessons learned along the way. Panelists will reflect on their ex
	periences\, discuss what support has mattered most\, and offer ideas for
	 how our community can continue to uplift first-gen students. A moderate
	d Q&amp\;A will follow. Food will be provided.\n\nRSVP to the event.\n\n
	For more details: https://events.la.psu.edu/event/trailblazers-panel/
X-ALT-DESC;FMTTYPE=text/html:<html><head></head><body><p>Hear from first
	-generation Penn State students as they share their journeys navigating 
	higher education—the challenges, successes, and lessons learned along th
	e way. Panelists will reflect on their experiences, discuss what support
	 has mattered most, and offer ideas for how our community can continue t
	o uplift first-gen students. A moderated Q&amp;A will follow. Food will 
	be provided.</p><p><a href="https://bit.ly/ccss-traiblazers-panel">RSVP 
	to the event</a>.</p><p>For more details: <a href='https://events.la.psu
	.edu/event/trailblazers-panel/'>https://events.la.psu.edu/event/trailbla
	zers-panel/</a></p></body></html>
LOCATION:302 Pond Laboratory
END:VEVENT
END:VCALENDAR