BEGIN:VCALENDAR
VERSION:2.0
PRODID:-//events.la.psu.edu//EN
CALSCALE:GREGORIAN
BEGIN:VTIMEZONE
TZID:America/New_York
BEGIN:STANDARD
DTSTART:20201101T020000
TZOFFSETFROM:-0400
TZOFFSETTO:-0500
RRULE:FREQ=YEARLY;BYMONTH=11;BYDAY=1SU
END:STANDARD
BEGIN:DAYLIGHT
DTSTART:20200308T020000
TZOFFSETFROM:-0500
TZOFFSETTO:-0400
RRULE:FREQ=YEARLY;BYMONTH=3;BYDAY=2SU
END:DAYLIGHT
END:VTIMEZONE
BEGIN:VEVENT
UID:15596-9173214809a82196e588d255e6934134@events.la.psu.edu
DTSTAMP:20260424T124116Z
DTSTART;TZID=America/New_York:20250918T163000
DTEND;TZID=America/New_York:20250918T180000
SUMMARY:Three Minute Thesis: How to Explain Your Research Quickly and Clearly
DESCRIPTION:\nIn this workshop\, you will:\n\nLearn tips for creating an
	 accessible and memorable description of your work\nAnalyze award-winnin
	g models for clarity in organization\, content\, and delivery\nPrepare a
	nd practice part of your own unique “elevator speech”\nReview Three Minu
	te Thesis™ requirements to support your submission\n\nFor more details: 
	https://events.la.psu.edu/event/three-minute-thesis/
X-ALT-DESC;FMTTYPE=text/html:<html><head></head><body><p>In this worksho
	p, you will:</p><ul><li>Learn tips for creating an accessible and memora
	ble description of your work</li><li>Analyze award-winning models for cl
	arity in organization, content, and delivery</li><li>Prepare and practic
	e part of your own unique “elevator speech”</li><li>Review Three Minute 
	Thesis™ requirements to support your submission</li></ul><p>For more det
	ails: <a href='https://events.la.psu.edu/event/three-minute-thesis/'>htt
	ps://events.la.psu.edu/event/three-minute-thesis/</a></p></body></html>
URL:https://apps.powerapps.com/play/e/04aa84d0-9caa-e13c-97b1-d9b7005e3800/a
	/92f8e783-cdca-41ce-9573-ade17de85106?tenantId=7cf48d45-3ddb-4389-a9c1-c
	115526eb52e&amp;source=AppSharedV3&amp;hint=356fe4c9-150f-4e34-9070-c044
	6578f67d
LOCATION:117 Mateer Building
END:VEVENT
END:VCALENDAR