BEGIN:VCALENDAR
VERSION:2.0
PRODID:-//events.la.psu.edu//EN
CALSCALE:GREGORIAN
BEGIN:VTIMEZONE
TZID:America/New_York
BEGIN:STANDARD
DTSTART:20201101T020000
TZOFFSETFROM:-0400
TZOFFSETTO:-0500
RRULE:FREQ=YEARLY;BYMONTH=11;BYDAY=1SU
END:STANDARD
BEGIN:DAYLIGHT
DTSTART:20200308T020000
TZOFFSETFROM:-0500
TZOFFSETTO:-0400
RRULE:FREQ=YEARLY;BYMONTH=3;BYDAY=2SU
END:DAYLIGHT
END:VTIMEZONE
BEGIN:VEVENT
UID:13562-ae17487dda212272b54f0944a4eb31c5@events.la.psu.edu
DTSTAMP:20260422T215025Z
DTSTART;TZID=America/New_York:20100517T120000
DTEND;TZID=America/New_York:20100517T170000
SUMMARY:Talks and Symposia
DESCRIPTION:\nThe French Exotic\, 124 Sparks Building\, 12:30–5:00 p.m.\
	, March 19\, 2010. Featuring Christopher Bush (Northwestern University)\
	, Stephanie Tsai (Tamkang University/Cornell University)\, Richard Fogar
	ty (SUNY - Albany)\, and Chris Reed and Jennifer Boittin (both from Penn
	 State).\n\nCareers in Asia Talk\, April 9\, 2010\, featuring Stephen Gr
	eer (author of Starting from Scrap: An Entrepreneurial Success Story).\n
	\nEarly Texts workshop\, May 17–18\, 2010.\n\nFor more details: https://
	events.la.psu.edu/event/talks-and-symposia/
X-ALT-DESC;FMTTYPE=text/html:<html><head></head><body><p>The French Exot
	ic, 124 Sparks Building, 12:30–5:00 p.m., March 19, 2010. Featuring Chri
	stopher Bush (Northwestern University), Stephanie Tsai (Tamkang Universi
	ty/Cornell University), Richard Fogarty (SUNY - Albany), and Chris Reed 
	and Jennifer Boittin (both from Penn State).</p><p>Careers in Asia Talk,
	 April 9, 2010, featuring Stephen Greer (author of <em>Starting from Scr
	ap: An Entrepreneurial Success Story</em>).</p><p>Early Texts workshop, 
	May 17–18, 2010.</p><p>For more details: <a href='https://events.la.psu.
	edu/event/talks-and-symposia/'>https://events.la.psu.edu/event/talks-and
	-symposia/</a></p></body></html>
END:VEVENT
END:VCALENDAR