BEGIN:VCALENDAR
VERSION:2.0
PRODID:-//events.la.psu.edu//EN
CALSCALE:GREGORIAN
BEGIN:VTIMEZONE
TZID:America/New_York
BEGIN:STANDARD
DTSTART:20201101T020000
TZOFFSETFROM:-0400
TZOFFSETTO:-0500
RRULE:FREQ=YEARLY;BYMONTH=11;BYDAY=1SU
END:STANDARD
BEGIN:DAYLIGHT
DTSTART:20200308T020000
TZOFFSETFROM:-0500
TZOFFSETTO:-0400
RRULE:FREQ=YEARLY;BYMONTH=3;BYDAY=2SU
END:DAYLIGHT
END:VTIMEZONE
BEGIN:VEVENT
UID:19069-0a4998b66ac6b3b70337c243cdec3592@events.la.psu.edu
DTSTAMP:20260424T010118Z
DTSTART;TZID=America/New_York:20260428T153000
DTEND;TZID=America/New_York:20260428T173000
SUMMARY:Study Buddy Dates
DESCRIPTION:\nAn opportunity for students to study for their finals alon
	gside a friend and Peer Success Coaches (PSCs). PSCs will be available t
	o provide support with study strategies\, the five-day study plan\, acco
	untability\, etc. Rita's Italian Ice will be provided on the first day.\
	n\nFor more details: https://events.la.psu.edu/event/study-buddy-dates/
X-ALT-DESC;FMTTYPE=text/html:<html><head></head><body><p>An opportunity 
	for students to study for their finals alongside a friend and Peer Succe
	ss Coaches (PSCs). PSCs will be available to provide support with study 
	strategies, the five-day study plan, accountability, etc. Rita's Italian
	 Ice will be provided on the first day.</p><p>For more details: <a href=
	'https://events.la.psu.edu/event/study-buddy-dates/'>https://events.la.p
	su.edu/event/study-buddy-dates/</a></p></body></html>
LOCATION:Liberal Arts Chaiken Center for Student Success, 139 Sparks Building
END:VEVENT
BEGIN:VEVENT
UID:19069-ccd6407db9eb1933fddda72355b55f61@events.la.psu.edu
DTSTAMP:20260424T010118Z
DTSTART;TZID=America/New_York:20260505T153000
DTEND;TZID=America/New_York:20260505T173000
SUMMARY:Study Buddy Dates
DESCRIPTION:\nAn opportunity for students to study for their finals alon
	gside a friend and Peer Success Coaches (PSCs). PSCs will be available t
	o provide support with study strategies\, the five-day study plan\, acco
	untability\, etc. Rita's Italian Ice will be provided on the first day.\
	n\nFor more details: https://events.la.psu.edu/event/study-buddy-dates/
X-ALT-DESC;FMTTYPE=text/html:<html><head></head><body><p>An opportunity 
	for students to study for their finals alongside a friend and Peer Succe
	ss Coaches (PSCs). PSCs will be available to provide support with study 
	strategies, the five-day study plan, accountability, etc. Rita's Italian
	 Ice will be provided on the first day.</p><p>For more details: <a href=
	'https://events.la.psu.edu/event/study-buddy-dates/'>https://events.la.p
	su.edu/event/study-buddy-dates/</a></p></body></html>
LOCATION:Liberal Arts Chaiken Center for Student Success, 139 Sparks Building
END:VEVENT
BEGIN:VEVENT
UID:19069-45012fc3acbe9eefd5154313834f5d1c@events.la.psu.edu
DTSTAMP:20260424T010118Z
DTSTART;TZID=America/New_York:20260429T170000
DTEND;TZID=America/New_York:20260429T200000
SUMMARY:Study Buddy Dates
DESCRIPTION:\nAn opportunity for students to study for their finals alon
	gside a friend and Peer Success Coaches (PSCs). PSCs will be available t
	o provide support with study strategies\, the five-day study plan\, acco
	untability\, etc. Rita's Italian Ice will be provided on the first day.\
	n\nFor more details: https://events.la.psu.edu/event/study-buddy-dates/
X-ALT-DESC;FMTTYPE=text/html:<html><head></head><body><p>An opportunity 
	for students to study for their finals alongside a friend and Peer Succe
	ss Coaches (PSCs). PSCs will be available to provide support with study 
	strategies, the five-day study plan, accountability, etc. Rita's Italian
	 Ice will be provided on the first day.</p><p>For more details: <a href=
	'https://events.la.psu.edu/event/study-buddy-dates/'>https://events.la.p
	su.edu/event/study-buddy-dates/</a></p></body></html>
LOCATION:Liberal Arts Chaiken Center for Student Success, 139 Sparks Building
END:VEVENT
BEGIN:VEVENT
UID:19069-e94fdc5d5b0f283b71ce501e6b68c4dd@events.la.psu.edu
DTSTAMP:20260424T010118Z
DTSTART;TZID=America/New_York:20260506T170000
DTEND;TZID=America/New_York:20260506T200000
SUMMARY:Study Buddy Dates
DESCRIPTION:\nAn opportunity for students to study for their finals alon
	gside a friend and Peer Success Coaches (PSCs). PSCs will be available t
	o provide support with study strategies\, the five-day study plan\, acco
	untability\, etc. Rita's Italian Ice will be provided on the first day.\
	n\nFor more details: https://events.la.psu.edu/event/study-buddy-dates/
X-ALT-DESC;FMTTYPE=text/html:<html><head></head><body><p>An opportunity 
	for students to study for their finals alongside a friend and Peer Succe
	ss Coaches (PSCs). PSCs will be available to provide support with study 
	strategies, the five-day study plan, accountability, etc. Rita's Italian
	 Ice will be provided on the first day.</p><p>For more details: <a href=
	'https://events.la.psu.edu/event/study-buddy-dates/'>https://events.la.p
	su.edu/event/study-buddy-dates/</a></p></body></html>
LOCATION:Liberal Arts Chaiken Center for Student Success, 139 Sparks Building
END:VEVENT
END:VCALENDAR