BEGIN:VCALENDAR
VERSION:2.0
PRODID:-//events.la.psu.edu//EN
CALSCALE:GREGORIAN
BEGIN:VTIMEZONE
TZID:America/New_York
BEGIN:STANDARD
DTSTART:20201101T020000
TZOFFSETFROM:-0400
TZOFFSETTO:-0500
RRULE:FREQ=YEARLY;BYMONTH=11;BYDAY=1SU
END:STANDARD
BEGIN:DAYLIGHT
DTSTART:20200308T020000
TZOFFSETFROM:-0500
TZOFFSETTO:-0400
RRULE:FREQ=YEARLY;BYMONTH=3;BYDAY=2SU
END:DAYLIGHT
END:VTIMEZONE
BEGIN:VEVENT
UID:18906-b9ba83a3c4cf63343035b7d3819a3c00@events.la.psu.edu
DTSTAMP:20260420T025728Z
DTSTART;TZID=America/New_York:20260423T113000
DTEND;TZID=America/New_York:20260423T133000
SUMMARY:Staff Potluck Tailgate
DESCRIPTION:\nAnnual Potluck Tailgate hosted by CLA Staff Advisory Commi
	ttee\n\nChicken tenders\, salad\, plates\, and utensils provided by Staf
	f Advisory Committee\n\nSignup for the potluck following the QR code in 
	the email announcement\n\nLooking forward to seeing you there!\n\nFor mo
	re details: https://events.la.psu.edu/event/staff-potluck-tailgate/
X-ALT-DESC;FMTTYPE=text/html:<html><head></head><body><p>Annual Potluck 
	Tailgate hosted by CLA Staff Advisory Committee</p><p>Chicken tenders, s
	alad, plates, and utensils provided by Staff Advisory Committee</p><p>Si
	gnup for the potluck following the QR code in the email announcement</p>
	<p>Looking forward to seeing you there!</p><p>For more details: <a href=
	'https://events.la.psu.edu/event/staff-potluck-tailgate/'>https://events
	.la.psu.edu/event/staff-potluck-tailgate/</a></p></body></html>
LOCATION:335 Willard Building
END:VEVENT
END:VCALENDAR