BEGIN:VCALENDAR
VERSION:2.0
PRODID:-//events.la.psu.edu//EN
CALSCALE:GREGORIAN
BEGIN:VTIMEZONE
TZID:America/New_York
BEGIN:STANDARD
DTSTART:20201101T020000
TZOFFSETFROM:-0400
TZOFFSETTO:-0500
RRULE:FREQ=YEARLY;BYMONTH=11;BYDAY=1SU
END:STANDARD
BEGIN:DAYLIGHT
DTSTART:20200308T020000
TZOFFSETFROM:-0500
TZOFFSETTO:-0400
RRULE:FREQ=YEARLY;BYMONTH=3;BYDAY=2SU
END:DAYLIGHT
END:VTIMEZONE
BEGIN:VEVENT
UID:18625-4d2612cb3505c6344b0ffb9bce8f4ec6@events.la.psu.edu
DTSTAMP:20260421T215344Z
DTSTART;TZID=America/New_York:20260306T090000
DTEND;TZID=America/New_York:20260306T100000
SUMMARY:Staff Appreciation Breakfast
DESCRIPTION:\nStaff Advisory Committee Hosts: Staff Appreciation Yogurt 
	and Coffee Bar Catered by Farmstead Fusion\n\nFor more details: https://
	events.la.psu.edu/event/staff-appreciation-breakfast/
X-ALT-DESC;FMTTYPE=text/html:<html><head></head><body><p>Staff Advisory 
	Committee Hosts: Staff Appreciation Yogurt and Coffee Bar Catered by Far
	mstead Fusion</p><p>For more details: <a href='https://events.la.psu.edu
	/event/staff-appreciation-breakfast/'>https://events.la.psu.edu/event/st
	aff-appreciation-breakfast/</a></p></body></html>
LOCATION:133 Sparks Building
END:VEVENT
END:VCALENDAR