BEGIN:VCALENDAR
VERSION:2.0
PRODID:-//events.la.psu.edu//EN
CALSCALE:GREGORIAN
BEGIN:VTIMEZONE
TZID:America/New_York
BEGIN:STANDARD
DTSTART:20201101T020000
TZOFFSETFROM:-0400
TZOFFSETTO:-0500
RRULE:FREQ=YEARLY;BYMONTH=11;BYDAY=1SU
END:STANDARD
BEGIN:DAYLIGHT
DTSTART:20200308T020000
TZOFFSETFROM:-0500
TZOFFSETTO:-0400
RRULE:FREQ=YEARLY;BYMONTH=3;BYDAY=2SU
END:DAYLIGHT
END:VTIMEZONE
BEGIN:VEVENT
UID:5756-14ba777de9d8de31e7cd22e5a3b94d82@events.la.psu.edu
DTSTAMP:20260421T052625Z
DTSTART;TZID=America/New_York:20200306T153000
DTEND;TZID=America/New_York:20200306T170000
SUMMARY:Spring 2020 Philosophy Talk
DESCRIPTION:\nSanem Soyarslan\n\nFor more details: https://events.la.psu
	.edu/event/spring_2020_philosophy_talk_1338/
X-ALT-DESC;FMTTYPE=text/html:<html><head></head><body><p>Sanem Soyarslan
	</p><p>For more details: <a href='https://events.la.psu.edu/event/spring
	_2020_philosophy_talk_1338/'>https://events.la.psu.edu/event/spring_2020
	_philosophy_talk_1338/</a></p></body></html>
LOCATION:Foster Auditorium, 102 Paterno Library
END:VEVENT
END:VCALENDAR