BEGIN:VCALENDAR
VERSION:2.0
PRODID:-//events.la.psu.edu//EN
CALSCALE:GREGORIAN
BEGIN:VTIMEZONE
TZID:America/New_York
BEGIN:STANDARD
DTSTART:20201101T020000
TZOFFSETFROM:-0400
TZOFFSETTO:-0500
RRULE:FREQ=YEARLY;BYMONTH=11;BYDAY=1SU
END:STANDARD
BEGIN:DAYLIGHT
DTSTART:20200308T020000
TZOFFSETFROM:-0500
TZOFFSETTO:-0400
RRULE:FREQ=YEARLY;BYMONTH=3;BYDAY=2SU
END:DAYLIGHT
END:VTIMEZONE
BEGIN:VEVENT
UID:15240-464297db789e1a2790f19f9d55623927@events.la.psu.edu
DTSTAMP:20260423T065507Z
DTSTART;TZID=America/New_York:20250421T123000
DTEND;TZID=America/New_York:20250421T133000
SUMMARY:“Foreign Policy: The Role of Foreign Aid in Creating Stability”
DESCRIPTION:\nWe invite you to join the School of Public Policy for an e
	ngaging discussion that explores the vital role of humanitarian assistan
	ce in shaping foreign policy.\n\nThis conversation will highlight how th
	ese efforts profoundly contribute to fostering stability in fragile and 
	conflict-affected regions around the world. We’re excited to dive into t
	he intricate relationship between foreign aide and diplomatic strategies
	 as they work together to rebuild societies and promote lasting peace. W
	ith her impressive nineteen years of international experience—including 
	essential roles in the Department of State\, the Department of Defense\,
	 and as a respected Government Fellow in Geneva—Jaz Azari will share her
	 insights on the complex connections between diplomacy and humanitarian 
	work.\n\nFor more details: https://events.la.psu.edu/event/spp-jaz-azari
	/
X-ALT-DESC;FMTTYPE=text/html:<html><head></head><body><p>We invite you t
	o join the School of Public Policy for an engaging discussion that explo
	res the vital role of humanitarian assistance in shaping foreign policy.
	</p><p>This conversation will highlight how these efforts profoundly con
	tribute to fostering stability in fragile and conflict-affected regions 
	around the world. We’re excited to dive into the intricate relationship 
	between foreign aide and diplomatic strategies as they work together to 
	rebuild societies and promote lasting peace. With her impressive ninetee
	n years of international experience—including essential roles in the Dep
	artment of State, the Department of Defense, and as a respected Governme
	nt Fellow in Geneva—Jaz Azari will share her insights on the complex con
	nections between diplomacy and humanitarian work.</p><p>For more details
	: <a href='https://events.la.psu.edu/event/spp-jaz-azari/'>https://event
	s.la.psu.edu/event/spp-jaz-azari/</a></p></body></html>
END:VEVENT
END:VCALENDAR