BEGIN:VCALENDAR
VERSION:2.0
PRODID:-//events.la.psu.edu//EN
CALSCALE:GREGORIAN
BEGIN:VTIMEZONE
TZID:America/New_York
BEGIN:STANDARD
DTSTART:20201101T020000
TZOFFSETFROM:-0400
TZOFFSETTO:-0500
RRULE:FREQ=YEARLY;BYMONTH=11;BYDAY=1SU
END:STANDARD
BEGIN:DAYLIGHT
DTSTART:20200308T020000
TZOFFSETFROM:-0500
TZOFFSETTO:-0400
RRULE:FREQ=YEARLY;BYMONTH=3;BYDAY=2SU
END:DAYLIGHT
END:VTIMEZONE
BEGIN:VEVENT
UID:4677-f6fddb922ea8cb0d0343efb5a47e4720@events.la.psu.edu
DTSTAMP:20260420T074948Z
DTSTART;TZID=America/New_York:20220125T100000
DTEND;TZID=America/New_York:20220125T140000
SUMMARY:School of Public Policy Information Table
DESCRIPTION:\nThe School of Public Policy will host a table in the HUB R
	obeson Center on Tuesday from 10:00 a.m. - 3:00 p.m. Come visit us to le
	arn about our Master of Public Policy degree program\, the accelerated i
	ntegrated undergraduate/graduate degree for Criminology and Sociology B.
	S. students\, career options for grads\, the application process\, and m
	ore!&nbsp\;\n\nFor more details: https://events.la.psu.edu/event/school_
	of_public_policy_information_table/
X-ALT-DESC;FMTTYPE=text/html:<html><head></head><body><p>The School of P
	ublic Policy will host a table in the HUB Robeson Center on Tuesday from
	 10:00 a.m. - 3:00 p.m. Come visit us to learn about our Master of Publi
	c Policy degree program, the accelerated integrated undergraduate/gradua
	te degree for Criminology and Sociology B.S. students, career options fo
	r grads, the application process, and more!&nbsp;</p><p>For more details
	: <a href='https://events.la.psu.edu/event/school_of_public_policy_infor
	mation_table/'>https://events.la.psu.edu/event/school_of_public_policy_i
	nformation_table/</a></p></body></html>
LOCATION:HUB-Robeson Center
END:VEVENT
END:VCALENDAR