BEGIN:VCALENDAR
VERSION:2.0
PRODID:-//events.la.psu.edu//EN
CALSCALE:GREGORIAN
BEGIN:VTIMEZONE
TZID:America/New_York
BEGIN:STANDARD
DTSTART:20201101T020000
TZOFFSETFROM:-0400
TZOFFSETTO:-0500
RRULE:FREQ=YEARLY;BYMONTH=11;BYDAY=1SU
END:STANDARD
BEGIN:DAYLIGHT
DTSTART:20200308T020000
TZOFFSETFROM:-0500
TZOFFSETTO:-0400
RRULE:FREQ=YEARLY;BYMONTH=3;BYDAY=2SU
END:DAYLIGHT
END:VTIMEZONE
BEGIN:VEVENT
UID:13045-96ccc4d7573985d5e503b18837929b95@events.la.psu.edu
DTSTAMP:20260421T033304Z
DTSTART;TZID=America/New_York:20241008T100000
DTEND;TZID=America/New_York:20241008T170000
SUMMARY:Is Your Semester Getting Scary?
DESCRIPTION:\nDrop in or make a Starfish appointment with our peer mento
	rs and peer success coaches to reflect and reset for better exam grades!
	\n\nFor more details: https://events.la.psu.edu/event/scary-100824/
X-ALT-DESC;FMTTYPE=text/html:<html><head></head><body><p>Drop in or <a h
	ref="https://psu.starfishsolutions.com/starfish-ops/instructor/serviceCa
	talog.html?tenantId=9045#/service/356387/schedule">make a Starfish appoi
	ntment</a> with our peer mentors and peer success coaches to reflect and
	 reset for better exam grades!</p><p>For more details: <a href='https://
	events.la.psu.edu/event/scary-100824/'>https://events.la.psu.edu/event/s
	cary-100824/</a></p></body></html>
LOCATION:Chaiken Center for Student Success, 138 and 139 Sparks Building
END:VEVENT
BEGIN:VEVENT
UID:13045-2409ce885ded2c6e4c3e77adca5cc79d@events.la.psu.edu
DTSTAMP:20260421T033304Z
DTSTART;TZID=America/New_York:20241010T100000
DTEND;TZID=America/New_York:20241010T170000
SUMMARY:Is Your Semester Getting Scary?
DESCRIPTION:\nDrop in or make a Starfish appointment with our peer mento
	rs and peer success coaches to reflect and reset for better exam grades!
	\n\nFor more details: https://events.la.psu.edu/event/scary-100824/
X-ALT-DESC;FMTTYPE=text/html:<html><head></head><body><p>Drop in or <a h
	ref="https://psu.starfishsolutions.com/starfish-ops/instructor/serviceCa
	talog.html?tenantId=9045#/service/356387/schedule">make a Starfish appoi
	ntment</a> with our peer mentors and peer success coaches to reflect and
	 reset for better exam grades!</p><p>For more details: <a href='https://
	events.la.psu.edu/event/scary-100824/'>https://events.la.psu.edu/event/s
	cary-100824/</a></p></body></html>
LOCATION:Chaiken Center for Student Success, 138 and 139 Sparks Building
END:VEVENT
END:VCALENDAR