BEGIN:VCALENDAR
VERSION:2.0
PRODID:-//events.la.psu.edu//EN
CALSCALE:GREGORIAN
BEGIN:VTIMEZONE
TZID:America/New_York
BEGIN:STANDARD
DTSTART:20201101T020000
TZOFFSETFROM:-0400
TZOFFSETTO:-0500
RRULE:FREQ=YEARLY;BYMONTH=11;BYDAY=1SU
END:STANDARD
BEGIN:DAYLIGHT
DTSTART:20200308T020000
TZOFFSETFROM:-0500
TZOFFSETTO:-0400
RRULE:FREQ=YEARLY;BYMONTH=3;BYDAY=2SU
END:DAYLIGHT
END:VTIMEZONE
BEGIN:VEVENT
UID:3630-517990d109594cbda07948918e43f37d@events.la.psu.edu
DTSTAMP:20260421T053442Z
DTSTART;TZID=America/New_York:20230209T153000
DTEND;TZID=America/New_York:20230209T170000
SUMMARY:“Cruising Masculinity: Immanent Affect in Post Partition Short Stories” 
	with Amrita De
DESCRIPTION:\nThe South Asian Speaker Series presents Amrita De (Penn St
	ate) on “Cruising Masculinity: Immanent Affect in Post Partition Short S
	tories”\n\nFor more details: https://events.la.psu.edu/event/sasss_amrit
	a-de/
X-ALT-DESC;FMTTYPE=text/html:<html><head></head><body><p>The South Asian
	 Speaker Series presents Amrita De (Penn State) on “Cruising Masculinity
	: Immanent Affect in Post Partition Short Stories”</p><p>For more detail
	s: <a href='https://events.la.psu.edu/event/sasss_amrita-de/'>https://ev
	ents.la.psu.edu/event/sasss_amrita-de/</a></p></body></html>
LOCATION:102 Weaver Building
END:VEVENT
END:VCALENDAR