BEGIN:VCALENDAR
VERSION:2.0
PRODID:-//events.la.psu.edu//EN
CALSCALE:GREGORIAN
BEGIN:VTIMEZONE
TZID:America/New_York
BEGIN:STANDARD
DTSTART:20201101T020000
TZOFFSETFROM:-0400
TZOFFSETTO:-0500
RRULE:FREQ=YEARLY;BYMONTH=11;BYDAY=1SU
END:STANDARD
BEGIN:DAYLIGHT
DTSTART:20200308T020000
TZOFFSETFROM:-0500
TZOFFSETTO:-0400
RRULE:FREQ=YEARLY;BYMONTH=3;BYDAY=2SU
END:DAYLIGHT
END:VTIMEZONE
BEGIN:VEVENT
UID:15810-c7a06a11bd3b2c68c5af004a25d37bab@events.la.psu.edu
DTSTAMP:20260423T032349Z
DTSTART;TZID=America/New_York:20251113T180700
DTEND;TZID=America/New_York:20251113T193000
SUMMARY:The Mary E. Rolling Reading Series presents Matthew Ferrence
DESCRIPTION:\nMatthew Ferrence is the author of two books of creative no
	nfiction—I Hate It Here\, Please Vote For Me: Essays on Rural Political 
	Decay (WVU Press 2024) and Appalachia North: A Memoir (2019). He's curre
	ntly at work on a collection of jazz essays\, and an eco-fabulist novel.
	 His essays and stories have appeared widely in North American literary 
	journals\, including Gettysburg Review\, The Fiddlehead\, Blue Mesa Revi
	ew\, and Best American Travel Writing. He is a professor of creative wri
	ting and literature at Allegheny College.\n\nFor more details: https://e
	vents.la.psu.edu/event/rolling-reading-series-matthew-ferrence/
X-ALT-DESC;FMTTYPE=text/html:<html><head></head><body><p>Matthew Ferrenc
	e is the author of two books of creative nonfiction—<em>I Hate It Here, 
	Please Vote For Me: Essays on Rural Political Decay</em> (WVU Press 2024
	) and <em>Appalachia North: A Memoir</em> (2019). He's currently at work
	 on a collection of jazz essays, and an eco-fabulist novel. His essays a
	nd stories have appeared widely in North American literary journals, inc
	luding<em> Gettysburg Review</em>, <em>The Fiddlehead</em>, <em>Blue Mes
	a Review</em>, and <em>Best American Travel Writing</em>. He is a profes
	sor of creative writing and literature at Allegheny College.</p><p>For m
	ore details: <a href='https://events.la.psu.edu/event/rolling-reading-se
	ries-matthew-ferrence/'>https://events.la.psu.edu/event/rolling-reading-
	series-matthew-ferrence/</a></p></body></html>
LOCATION:Foster Auditorium, 102 Paterno Library, 140 Curtain Road
END:VEVENT
END:VCALENDAR