BEGIN:VCALENDAR
VERSION:2.0
PRODID:-//events.la.psu.edu//EN
CALSCALE:GREGORIAN
BEGIN:VTIMEZONE
TZID:America/New_York
BEGIN:STANDARD
DTSTART:20201101T020000
TZOFFSETFROM:-0400
TZOFFSETTO:-0500
RRULE:FREQ=YEARLY;BYMONTH=11;BYDAY=1SU
END:STANDARD
BEGIN:DAYLIGHT
DTSTART:20200308T020000
TZOFFSETFROM:-0500
TZOFFSETTO:-0400
RRULE:FREQ=YEARLY;BYMONTH=3;BYDAY=2SU
END:DAYLIGHT
END:VTIMEZONE
BEGIN:VEVENT
UID:5267-d0f5d767b93e8e09fbba020e73e5e945@events.la.psu.edu
DTSTAMP:20260419T213609Z
DTSTART;TZID=America/New_York:20210210T150000
DTEND;TZID=America/New_York:20210210T154500
SUMMARY:Profiles: Joe Marie
DESCRIPTION:\nThe School of Public Policy will welcome&nbsp\;professiona
	ls who have pursued careers in policy to take part in a series of virtua
	l discussions about their professional experience. We&#39\;ll talk about
	 how they have leveraged their public policy training in their careers.&
	nbsp\;\n\nThe inaugural episode features&nbsp\;Joe Marie\, senior vice p
	resident and managing director of WSP&rsquo\;s Rail Transit Systems Grou
	p. He&#39\;s also overseeing the East Side Access Project &ndash\; the l
	argest transportation infrastructure project currently being undertaken 
	in North America.\n\nhttp://publicpolicy.psu.edu/profiles\n\nFor more de
	tails: https://events.la.psu.edu/event/profiles_joe_marie/
X-ALT-DESC;FMTTYPE=text/html:<html><head></head><body><p>The School of P
	ublic Policy will welcome&nbsp;professionals who have pursued careers in
	 policy to take part in a series of virtual discussions about their prof
	essional experience. We&#39;ll talk about how they have leveraged their 
	public policy training in their careers.&nbsp;</p><p>The inaugural episo
	de features&nbsp;Joe Marie, senior vice president and managing director 
	of WSP&rsquo;s Rail Transit Systems Group. He&#39;s also overseeing the 
	East Side Access Project &ndash; the largest transportation infrastructu
	re project currently being undertaken in North America.</p><p><a href="h
	ttp://publicpolicy.psu.edu/profiles">http://publicpolicy.psu.edu/profile
	s</a></p><p>For more details: <a href='https://events.la.psu.edu/event/p
	rofiles_joe_marie/'>https://events.la.psu.edu/event/profiles_joe_marie/<
	/a></p></body></html>
URL:http://publicpolicy.psu.edu/profiles
END:VEVENT
END:VCALENDAR