BEGIN:VCALENDAR
VERSION:2.0
PRODID:-//events.la.psu.edu//EN
CALSCALE:GREGORIAN
BEGIN:VTIMEZONE
TZID:America/New_York
BEGIN:STANDARD
DTSTART:20201101T020000
TZOFFSETFROM:-0400
TZOFFSETTO:-0500
RRULE:FREQ=YEARLY;BYMONTH=11;BYDAY=1SU
END:STANDARD
BEGIN:DAYLIGHT
DTSTART:20200308T020000
TZOFFSETFROM:-0500
TZOFFSETTO:-0400
RRULE:FREQ=YEARLY;BYMONTH=3;BYDAY=2SU
END:DAYLIGHT
END:VTIMEZONE
BEGIN:VEVENT
UID:4379-3ee1a6e3d9cb677f0dd9521f5661b489@events.la.psu.edu
DTSTAMP:20260420T003625Z
DTSTART;TZID=America/New_York:20220413T113000
DTEND;TZID=America/New_York:20220413T123000
SUMMARY:Policy Profiles: Michael Hannan
DESCRIPTION:\nThe School of Public Policy&#39\;s leadership series spotl
	ighting professionals with careers in public policy will feature Michael
	 Hannan on Wednesday\, April 13 at 11:30 a.m. EDT.\n\nMike Hannan has mo
	re than 25 years of experience in project management as an entrepreneur\
	, executive\, project portfolio manager\, program manager\, process engi
	neer\, and software architect. His background in project management bega
	n in the early 1990s at NASA\, where he supported large\, complex initia
	tives such as the International Space Station and High-Performance Compu
	ting &amp\; Communications (HPCC) programs. He spent 10 years managing e
	nterprise IT programs\, military weapon-system modernization initiatives
	\, and military and veteran healthcare projects. He has managed and cons
	ulted on project portfolios valued at over one billion dollars\, and con
	sulted for dozens of large government agencies and for eight Fortune 500
	 companies.\n\nHe has a master of science&nbsp\;in information technolog
	y from George Washington University\, a master of arts&nbsp\;in internat
	ional affairs from American University\, and a bachelor of arts&nbsp\;in
	 arts and sciences from Penn State. He is also a lead author of the best
	-selling book\, The CIO&rsquo\;s Guide to Breakthrough Project Portfolio
	 Performance (Fortezza Consulting\, 2014)\, and has been published in PM
	 Magazine\, a publication by Morgan State University&rsquo\;s graduate p
	rogram in project management.\n\nhttps://publicpolicy.psu.edu/profiles\n
	\nFor more details: https://events.la.psu.edu/event/policy_profiles_mich
	ael_hannan/
X-ALT-DESC;FMTTYPE=text/html:<html><head></head><body><p>The School of P
	ublic Policy&#39;s leadership series spotlighting professionals with car
	eers in public policy will feature Michael Hannan on Wednesday, April 13
	 at 11:30 a.m. EDT.</p><p>Mike Hannan has more than 25 years of experien
	ce in project management as an entrepreneur, executive, project portfoli
	o manager, program manager, process engineer, and software architect. Hi
	s background in project management began in the early 1990s at NASA, whe
	re he supported large, complex initiatives such as the International Spa
	ce Station and High-Performance Computing &amp; Communications (HPCC) pr
	ograms. He spent 10 years managing enterprise IT programs, military weap
	on-system modernization initiatives, and military and veteran healthcare
	 projects. He has managed and consulted on project portfolios valued at 
	over one billion dollars, and consulted for dozens of large government a
	gencies and for eight Fortune 500 companies.</p><p>He has a master of sc
	ience&nbsp;in information technology from George Washington University, 
	a master of arts&nbsp;in international affairs from American University,
	 and a bachelor of arts&nbsp;in arts and sciences from Penn State. He is
	 also a lead author of the best-selling book, The CIO&rsquo;s Guide to B
	reakthrough Project Portfolio Performance (Fortezza Consulting, 2014), a
	nd has been published in PM Magazine, a publication by Morgan State Univ
	ersity&rsquo;s graduate program in project management.</p><p><a href="ht
	tps://publicpolicy.psu.edu/profiles">https://publicpolicy.psu.edu/profil
	es</a></p><p>For more details: <a href='https://events.la.psu.edu/event/
	policy_profiles_michael_hannan/'>https://events.la.psu.edu/event/policy_
	profiles_michael_hannan/</a></p></body></html>
URL:https://publicpolicy.psu.edu/events/
END:VEVENT
END:VCALENDAR