BEGIN:VCALENDAR
VERSION:2.0
PRODID:-//events.la.psu.edu//EN
CALSCALE:GREGORIAN
BEGIN:VTIMEZONE
TZID:America/New_York
BEGIN:STANDARD
DTSTART:20201101T020000
TZOFFSETFROM:-0400
TZOFFSETTO:-0500
RRULE:FREQ=YEARLY;BYMONTH=11;BYDAY=1SU
END:STANDARD
BEGIN:DAYLIGHT
DTSTART:20200308T020000
TZOFFSETFROM:-0500
TZOFFSETTO:-0400
RRULE:FREQ=YEARLY;BYMONTH=3;BYDAY=2SU
END:DAYLIGHT
END:VTIMEZONE
BEGIN:VEVENT
UID:3984-93e2bd953527fa15a0f3bca44e5b101d@events.la.psu.edu
DTSTAMP:20260422T020027Z
DTSTART;TZID=America/New_York:20221012T170000
DTEND;TZID=America/New_York:20221012T170000
SUMMARY:Poland Embedded Course Trip Information Session
DESCRIPTION:\nLearn about an education abroad opportunity for spring 202
	3 during and information session about The Holocaust and History embedde
	d course trip to Poland!\n\nStudents enrolled in HIST/JST 426 The Holoca
	ust and History will have the opportunity to deepen their understanding 
	of key issues surrounding the Holocaust through visiting historical site
	s in Poland over spring break. All participants will enroll in an additi
	onal 1-credit embedded course\, JST 197.\n\nFor more details: https://ev
	ents.la.psu.edu/event/poland-information-session_101222/
X-ALT-DESC;FMTTYPE=text/html:<html><head></head><body><p>Learn about an 
	education abroad opportunity for spring 2023 during and information sess
	ion about The Holocaust and History embedded course trip to Poland!</p><
	p>Students enrolled in HIST/JST 426 The Holocaust and History will have 
	the opportunity to deepen their understanding of key issues surrounding 
	the Holocaust through visiting historical sites in Poland over spring br
	eak. All participants will enroll in an additional 1-credit embedded cou
	rse, JST 197.</p><p>For more details: <a href='https://events.la.psu.edu
	/event/poland-information-session_101222/'>https://events.la.psu.edu/eve
	nt/poland-information-session_101222/</a></p></body></html>
URL:https://sites.psu.edu/laembeddedcourses/
LOCATION:102 Weaver Building
END:VEVENT
END:VCALENDAR