BEGIN:VCALENDAR
VERSION:2.0
PRODID:-//events.la.psu.edu//EN
CALSCALE:GREGORIAN
BEGIN:VTIMEZONE
TZID:America/New_York
BEGIN:STANDARD
DTSTART:20201101T020000
TZOFFSETFROM:-0400
TZOFFSETTO:-0500
RRULE:FREQ=YEARLY;BYMONTH=11;BYDAY=1SU
END:STANDARD
BEGIN:DAYLIGHT
DTSTART:20200308T020000
TZOFFSETFROM:-0500
TZOFFSETTO:-0400
RRULE:FREQ=YEARLY;BYMONTH=3;BYDAY=2SU
END:DAYLIGHT
END:VTIMEZONE
BEGIN:VEVENT
UID:6476-9eba2b069350c306d0775e3b1f72057e@events.la.psu.edu
DTSTAMP:20260420T022320Z
DTSTART;TZID=America/New_York:20190327T180000
DTEND;TZID=America/New_York:20190327T190000
SUMMARY:POETRY WITHOUT BORDERS
DESCRIPTION:\nCall for poems\n\nOvercoming Walls: Poetry and the Pursuit
	 of Freedom\n\nStudents\, faculty\, and all members of the Penn State co
	mmunity&nbsp\; are invited to share poems from all languages and culture
	s during a night of poetry and remembrance of the 30th anniversary of th
	e fall of the Berlin Wall.\n\nIf you would like to read a poem at&nbsp\;
	the event\, please email us at poetrywithoutborders.psu@gmail.com\n\n&nb
	sp\;\n\n&nbsp\;\n\nFor more details: https://events.la.psu.edu/event/poe
	try_without_borders_8046/
X-ALT-DESC;FMTTYPE=text/html:<html><head></head><body><p><b>Call for poe
	ms</b></p><p><u><b>Overcoming Walls: Poetry and the Pursuit of Freedom</
	b></u></p><p>Students, faculty, and all members of the Penn State commun
	ity&nbsp; are invited to share poems from all languages and cultures dur
	ing a night of poetry and remembrance of the 30th anniversary of the fal
	l of the Berlin Wall.</p><p><b>If you would like to read a poem at&nbsp;
	the event, please email us at poetrywithoutborders.psu@gmail.com</b></p>
	<p>&nbsp;</p><p>&nbsp;</p><p>For more details: <a href='https://events.l
	a.psu.edu/event/poetry_without_borders_8046/'>https://events.la.psu.edu/
	event/poetry_without_borders_8046/</a></p></body></html>
LOCATION:Foster Auditorium, 102 Paterno Library
END:VEVENT
END:VCALENDAR