BEGIN:VCALENDAR
VERSION:2.0
PRODID:-//events.la.psu.edu//EN
CALSCALE:GREGORIAN
BEGIN:VTIMEZONE
TZID:America/New_York
BEGIN:STANDARD
DTSTART:20201101T020000
TZOFFSETFROM:-0400
TZOFFSETTO:-0500
RRULE:FREQ=YEARLY;BYMONTH=11;BYDAY=1SU
END:STANDARD
BEGIN:DAYLIGHT
DTSTART:20200308T020000
TZOFFSETFROM:-0500
TZOFFSETTO:-0400
RRULE:FREQ=YEARLY;BYMONTH=3;BYDAY=2SU
END:DAYLIGHT
END:VTIMEZONE
BEGIN:VEVENT
UID:4089-635ff86b38bcf44f30a97933c12bee3c@events.la.psu.edu
DTSTAMP:20260425T022032Z
DTSTART;TZID=America/New_York:20220915T173000
DTEND;TZID=America/New_York:20220915T183000
SUMMARY:PIRE Program Information Session
DESCRIPTION:\nAre you interested in language? In languages in a foreign 
	setting? In what is involved in speaking or learning more than one langu
	age?\n\nThe Center for Language Science at Penn State has received a mul
	ti-year grant from the National Science Foundation as part of the Partne
	rships for International Research and Education (PIRE) program. The proj
	ect is titled &ldquo\;Translating cognitive and brain science in the lab
	oratory and field to language learning environments\,&rdquo\; and is des
	igned to study the way one or more languages are learned and used across
	 the lifespan. The scope is very broad and includes the consequences of 
	being or becoming bilingual\, the use of minority languages and dialects
	\, and the incorporation of research on language into the educational cu
	rriculum.\n\nUndergraduate students who participate in the PIRE program 
	will have the opportunity to work closely with Penn State research facul
	ty who study language from a variety of perspectives. They will also spe
	nd a summer abroad at one of our partner institutions (in Europe\, Latin
	 America\, and Asia) participating in collaborative projects\, both in a
	n academic setting and through educational and community outreach effort
	s. This is an excellent opportunity to engage in hands-on research in an
	 exciting field with significant social implications.\n\nExpenses to tra
	vel abroad during the summer to conduct research (e.g.\, summer tuition\
	, airfare\, lodging\, meals\, incidentals) will be covered by the grant.
	\n\nAdvance registration required. After registering\, you will receive 
	a confirmation email containing information about joining the meeting.\n
	\nFor more details: https://events.la.psu.edu/event/pire-info-session_09
	1522/
X-ALT-DESC;FMTTYPE=text/html:<html><head></head><body><p><b>Are you inte
	rested in language? In languages in a foreign setting? In what is involv
	ed in speaking or learning more than one language?</b></p><p>The Center 
	for Language Science at Penn State has received a multi-year grant from 
	the National Science Foundation as part of the Partnerships for Internat
	ional Research and Education (PIRE) program. The project is titled &ldqu
	o;Translating cognitive and brain science in the laboratory and field to
	 language learning environments,&rdquo; and is designed to study the way
	 one or more languages are learned and used across the lifespan. The sco
	pe is very broad and includes the consequences of being or becoming bili
	ngual, the use of minority languages and dialects, and the incorporation
	 of research on language into the educational curriculum.</p><p>Undergra
	duate students who participate in the PIRE program will have the opportu
	nity to work closely with Penn State research faculty who study language
	 from a variety of perspectives. They will also spend a summer abroad at
	 one of our partner institutions (in Europe, Latin America, and Asia) pa
	rticipating in collaborative projects, both in an academic setting and t
	hrough educational and community outreach efforts. This is an excellent 
	opportunity to engage in hands-on research in an exciting field with sig
	nificant social implications.</p><p>Expenses to travel abroad during the
	 summer to conduct research (e.g., summer tuition, airfare, lodging, mea
	ls, incidentals) will be covered by the grant.</p><p><a href="https://ps
	u.zoom.us/meeting/register/tJErd-GupjgqH9S6cOP8BOzeXPjCzVGUC3TA">Advance
	 registration required</a>. After registering, you will receive a confir
	mation email containing information about joining the meeting.</p><p>For
	 more details: <a href='https://events.la.psu.edu/event/pire-info-sessio
	n_091522/'>https://events.la.psu.edu/event/pire-info-session_091522/</a>
	</p></body></html>
URL:http://pire.la.psu.edu
END:VEVENT
END:VCALENDAR