BEGIN:VCALENDAR
VERSION:2.0
PRODID:-//events.la.psu.edu//EN
CALSCALE:GREGORIAN
BEGIN:VTIMEZONE
TZID:America/New_York
BEGIN:STANDARD
DTSTART:20201101T020000
TZOFFSETFROM:-0400
TZOFFSETTO:-0500
RRULE:FREQ=YEARLY;BYMONTH=11;BYDAY=1SU
END:STANDARD
BEGIN:DAYLIGHT
DTSTART:20200308T020000
TZOFFSETFROM:-0500
TZOFFSETTO:-0400
RRULE:FREQ=YEARLY;BYMONTH=3;BYDAY=2SU
END:DAYLIGHT
END:VTIMEZONE
BEGIN:VEVENT
UID:14974-0adb32557039ae10073a179d824d6ea7@events.la.psu.edu
DTSTAMP:20260420T065756Z
DTSTART;TZID=America/New_York:20250509T140000
DTEND;TZID=America/New_York:20250509T153000
SUMMARY:Commencement Open House
DESCRIPTION:\nGraduating Liberal Arts undergraduates and their guests ar
	e invited to the college’s Commencement Open House. Invitations have bee
	n sent to students\, and advance registration was required. The dress co
	de is casual for graduating students and their guests attending this eve
	nt.\n\nFor more details: https://events.la.psu.edu/event/open-house-sp25
	/
X-ALT-DESC;FMTTYPE=text/html:<html><head></head><body><p>Graduating Libe
	ral Arts undergraduates and their guests are invited to the college’s Co
	mmencement Open House. Invitations have been sent to students, and advan
	ce registration was required. The dress code is casual for graduating st
	udents and their guests attending this event.</p><p>For more details: <a
	 href='https://events.la.psu.edu/event/open-house-sp25/'>https://events.
	la.psu.edu/event/open-house-sp25/</a></p></body></html>
URL:https://la.psu.edu/commencement
LOCATION:Hintz Family Alumni Center
END:VEVENT
END:VCALENDAR