BEGIN:VCALENDAR
VERSION:2.0
PRODID:-//events.la.psu.edu//EN
CALSCALE:GREGORIAN
BEGIN:VTIMEZONE
TZID:America/New_York
BEGIN:STANDARD
DTSTART:20201101T020000
TZOFFSETFROM:-0400
TZOFFSETTO:-0500
RRULE:FREQ=YEARLY;BYMONTH=11;BYDAY=1SU
END:STANDARD
BEGIN:DAYLIGHT
DTSTART:20200308T020000
TZOFFSETFROM:-0500
TZOFFSETTO:-0400
RRULE:FREQ=YEARLY;BYMONTH=3;BYDAY=2SU
END:DAYLIGHT
END:VTIMEZONE
BEGIN:VEVENT
UID:16926-d8d62c48ff6340827a7e82a736825229@events.la.psu.edu
DTSTAMP:20260425T025538Z
DTSTART;TZID=America/New_York:20200313T090000
DTEND;TZID=America/New_York:20200313T103000
SUMMARY:No CLS Talk (Spring Break)
DESCRIPTION:For more details: https://events.la.psu.edu/event/no-cls-tal
	k-spring-break/
X-ALT-DESC;FMTTYPE=text/html:<p>For more details: <a href='https://event
	s.la.psu.edu/event/no-cls-talk-spring-break/'>https://events.la.psu.edu/
	event/no-cls-talk-spring-break/</a></p>
END:VEVENT
END:VCALENDAR