BEGIN:VCALENDAR
VERSION:2.0
PRODID:-//events.la.psu.edu//EN
CALSCALE:GREGORIAN
BEGIN:VTIMEZONE
TZID:America/New_York
BEGIN:STANDARD
DTSTART:20201101T020000
TZOFFSETFROM:-0400
TZOFFSETTO:-0500
RRULE:FREQ=YEARLY;BYMONTH=11;BYDAY=1SU
END:STANDARD
BEGIN:DAYLIGHT
DTSTART:20200308T020000
TZOFFSETFROM:-0500
TZOFFSETTO:-0400
RRULE:FREQ=YEARLY;BYMONTH=3;BYDAY=2SU
END:DAYLIGHT
END:VTIMEZONE
BEGIN:VEVENT
UID:4350-108e4e798a173af38de7fa3693581ada@events.la.psu.edu
DTSTAMP:20260421T060259Z
DTSTART;TZID=America/New_York:20220316T150000
DTEND;TZID=America/New_York:20220316T170000
SUMMARY:New Writing Group:  EPPIC Write-A-Thon
DESCRIPTION:\nAre you looking for a supportive space for your academic w
	riting?\n\nJoin a new writing group\, EPPIC Write-A-Thon\, to help build
	 a writing community of international students and scholars!\n\nThe grou
	p meets weekly in Paterno Library in spring 2022 (two six-week cycles).&
	nbsp\; A writing specialist will start the session with a short presenta
	tion on a writing strategy or tool\, and the rest of the meeting time is
	 for your writing!\n\nTo learn more and to register\, visit eppic.la.psu
	.edu.\n\nFor more details: https://events.la.psu.edu/event/new_writing_g
	roup_eppic_write-a-thon/
X-ALT-DESC;FMTTYPE=text/html:<html><head></head><body><p>Are you looking
	 for a supportive space for your academic writing?</p><p>Join a new writ
	ing group, EPPIC Write-A-Thon, to help build a writing community of inte
	rnational students and scholars!</p><p>The group meets weekly in Paterno
	 Library in spring 2022 (two six-week cycles).&nbsp; A writing specialis
	t will start the session with a short presentation on a writing strategy
	 or tool, and the rest of the meeting time is for your writing!</p><p>To
	 learn more and to register, visit <a href="https://eppic.la.psu.edu/ser
	vices/eppic-write-a-thon-new-in-spring-2022/">eppic.la.psu.edu</a>.</p><
	p>For more details: <a href='https://events.la.psu.edu/event/new_writing
	_group_eppic_write-a-thon/'>https://events.la.psu.edu/event/new_writing_
	group_eppic_write-a-thon/</a></p></body></html>
URL:https://eppic.la.psu.edu/services/eppic-conversations-focus-on-interacti
	on/
LOCATION:E-403, Paterno Library
END:VEVENT
BEGIN:VEVENT
UID:4350-8c00b8daae3b7b45c160eb456a58442f@events.la.psu.edu
DTSTAMP:20260421T060259Z
DTSTART;TZID=America/New_York:20220323T150000
DTEND;TZID=America/New_York:20220323T170000
SUMMARY:New Writing Group:  EPPIC Write-A-Thon
DESCRIPTION:\nAre you looking for a supportive space for your academic w
	riting?\n\nJoin a new writing group\, EPPIC Write-A-Thon\, to help build
	 a writing community of international students and scholars!\n\nThe grou
	p meets weekly in Paterno Library in spring 2022 (two six-week cycles).&
	nbsp\; A writing specialist will start the session with a short presenta
	tion on a writing strategy or tool\, and the rest of the meeting time is
	 for your writing!\n\nTo learn more and to register\, visit eppic.la.psu
	.edu.\n\nFor more details: https://events.la.psu.edu/event/new_writing_g
	roup_eppic_write-a-thon/
X-ALT-DESC;FMTTYPE=text/html:<html><head></head><body><p>Are you looking
	 for a supportive space for your academic writing?</p><p>Join a new writ
	ing group, EPPIC Write-A-Thon, to help build a writing community of inte
	rnational students and scholars!</p><p>The group meets weekly in Paterno
	 Library in spring 2022 (two six-week cycles).&nbsp; A writing specialis
	t will start the session with a short presentation on a writing strategy
	 or tool, and the rest of the meeting time is for your writing!</p><p>To
	 learn more and to register, visit <a href="https://eppic.la.psu.edu/ser
	vices/eppic-write-a-thon-new-in-spring-2022/">eppic.la.psu.edu</a>.</p><
	p>For more details: <a href='https://events.la.psu.edu/event/new_writing
	_group_eppic_write-a-thon/'>https://events.la.psu.edu/event/new_writing_
	group_eppic_write-a-thon/</a></p></body></html>
URL:https://eppic.la.psu.edu/services/eppic-conversations-focus-on-interacti
	on/
LOCATION:E-403, Paterno Library
END:VEVENT
BEGIN:VEVENT
UID:4350-9ca8f15c7e2cadeb170295af8bb0d290@events.la.psu.edu
DTSTAMP:20260421T060259Z
DTSTART;TZID=America/New_York:20220330T150000
DTEND;TZID=America/New_York:20220330T170000
SUMMARY:New Writing Group:  EPPIC Write-A-Thon
DESCRIPTION:\nAre you looking for a supportive space for your academic w
	riting?\n\nJoin a new writing group\, EPPIC Write-A-Thon\, to help build
	 a writing community of international students and scholars!\n\nThe grou
	p meets weekly in Paterno Library in spring 2022 (two six-week cycles).&
	nbsp\; A writing specialist will start the session with a short presenta
	tion on a writing strategy or tool\, and the rest of the meeting time is
	 for your writing!\n\nTo learn more and to register\, visit eppic.la.psu
	.edu.\n\nFor more details: https://events.la.psu.edu/event/new_writing_g
	roup_eppic_write-a-thon/
X-ALT-DESC;FMTTYPE=text/html:<html><head></head><body><p>Are you looking
	 for a supportive space for your academic writing?</p><p>Join a new writ
	ing group, EPPIC Write-A-Thon, to help build a writing community of inte
	rnational students and scholars!</p><p>The group meets weekly in Paterno
	 Library in spring 2022 (two six-week cycles).&nbsp; A writing specialis
	t will start the session with a short presentation on a writing strategy
	 or tool, and the rest of the meeting time is for your writing!</p><p>To
	 learn more and to register, visit <a href="https://eppic.la.psu.edu/ser
	vices/eppic-write-a-thon-new-in-spring-2022/">eppic.la.psu.edu</a>.</p><
	p>For more details: <a href='https://events.la.psu.edu/event/new_writing
	_group_eppic_write-a-thon/'>https://events.la.psu.edu/event/new_writing_
	group_eppic_write-a-thon/</a></p></body></html>
URL:https://eppic.la.psu.edu/services/eppic-conversations-focus-on-interacti
	on/
LOCATION:E-403, Paterno Library
END:VEVENT
BEGIN:VEVENT
UID:4350-f04269f28db899724426202f5fe8797d@events.la.psu.edu
DTSTAMP:20260421T060259Z
DTSTART;TZID=America/New_York:20220406T150000
DTEND;TZID=America/New_York:20220406T170000
SUMMARY:New Writing Group:  EPPIC Write-A-Thon
DESCRIPTION:\nAre you looking for a supportive space for your academic w
	riting?\n\nJoin a new writing group\, EPPIC Write-A-Thon\, to help build
	 a writing community of international students and scholars!\n\nThe grou
	p meets weekly in Paterno Library in spring 2022 (two six-week cycles).&
	nbsp\; A writing specialist will start the session with a short presenta
	tion on a writing strategy or tool\, and the rest of the meeting time is
	 for your writing!\n\nTo learn more and to register\, visit eppic.la.psu
	.edu.\n\nFor more details: https://events.la.psu.edu/event/new_writing_g
	roup_eppic_write-a-thon/
X-ALT-DESC;FMTTYPE=text/html:<html><head></head><body><p>Are you looking
	 for a supportive space for your academic writing?</p><p>Join a new writ
	ing group, EPPIC Write-A-Thon, to help build a writing community of inte
	rnational students and scholars!</p><p>The group meets weekly in Paterno
	 Library in spring 2022 (two six-week cycles).&nbsp; A writing specialis
	t will start the session with a short presentation on a writing strategy
	 or tool, and the rest of the meeting time is for your writing!</p><p>To
	 learn more and to register, visit <a href="https://eppic.la.psu.edu/ser
	vices/eppic-write-a-thon-new-in-spring-2022/">eppic.la.psu.edu</a>.</p><
	p>For more details: <a href='https://events.la.psu.edu/event/new_writing
	_group_eppic_write-a-thon/'>https://events.la.psu.edu/event/new_writing_
	group_eppic_write-a-thon/</a></p></body></html>
URL:https://eppic.la.psu.edu/services/eppic-conversations-focus-on-interacti
	on/
LOCATION:E-403, Paterno Library
END:VEVENT
BEGIN:VEVENT
UID:4350-05ef03897bae583313f4f8a297627546@events.la.psu.edu
DTSTAMP:20260421T060259Z
DTSTART;TZID=America/New_York:20220413T150000
DTEND;TZID=America/New_York:20220413T170000
SUMMARY:New Writing Group:  EPPIC Write-A-Thon
DESCRIPTION:\nAre you looking for a supportive space for your academic w
	riting?\n\nJoin a new writing group\, EPPIC Write-A-Thon\, to help build
	 a writing community of international students and scholars!\n\nThe grou
	p meets weekly in Paterno Library in spring 2022 (two six-week cycles).&
	nbsp\; A writing specialist will start the session with a short presenta
	tion on a writing strategy or tool\, and the rest of the meeting time is
	 for your writing!\n\nTo learn more and to register\, visit eppic.la.psu
	.edu.\n\nFor more details: https://events.la.psu.edu/event/new_writing_g
	roup_eppic_write-a-thon/
X-ALT-DESC;FMTTYPE=text/html:<html><head></head><body><p>Are you looking
	 for a supportive space for your academic writing?</p><p>Join a new writ
	ing group, EPPIC Write-A-Thon, to help build a writing community of inte
	rnational students and scholars!</p><p>The group meets weekly in Paterno
	 Library in spring 2022 (two six-week cycles).&nbsp; A writing specialis
	t will start the session with a short presentation on a writing strategy
	 or tool, and the rest of the meeting time is for your writing!</p><p>To
	 learn more and to register, visit <a href="https://eppic.la.psu.edu/ser
	vices/eppic-write-a-thon-new-in-spring-2022/">eppic.la.psu.edu</a>.</p><
	p>For more details: <a href='https://events.la.psu.edu/event/new_writing
	_group_eppic_write-a-thon/'>https://events.la.psu.edu/event/new_writing_
	group_eppic_write-a-thon/</a></p></body></html>
URL:https://eppic.la.psu.edu/services/eppic-conversations-focus-on-interacti
	on/
LOCATION:E-403, Paterno Library
END:VEVENT
BEGIN:VEVENT
UID:4350-705e52efe4bd3398e69e668a5eeee3ec@events.la.psu.edu
DTSTAMP:20260421T060259Z
DTSTART;TZID=America/New_York:20220420T150000
DTEND;TZID=America/New_York:20220420T170000
SUMMARY:New Writing Group:  EPPIC Write-A-Thon
DESCRIPTION:\nAre you looking for a supportive space for your academic w
	riting?\n\nJoin a new writing group\, EPPIC Write-A-Thon\, to help build
	 a writing community of international students and scholars!\n\nThe grou
	p meets weekly in Paterno Library in spring 2022 (two six-week cycles).&
	nbsp\; A writing specialist will start the session with a short presenta
	tion on a writing strategy or tool\, and the rest of the meeting time is
	 for your writing!\n\nTo learn more and to register\, visit eppic.la.psu
	.edu.\n\nFor more details: https://events.la.psu.edu/event/new_writing_g
	roup_eppic_write-a-thon/
X-ALT-DESC;FMTTYPE=text/html:<html><head></head><body><p>Are you looking
	 for a supportive space for your academic writing?</p><p>Join a new writ
	ing group, EPPIC Write-A-Thon, to help build a writing community of inte
	rnational students and scholars!</p><p>The group meets weekly in Paterno
	 Library in spring 2022 (two six-week cycles).&nbsp; A writing specialis
	t will start the session with a short presentation on a writing strategy
	 or tool, and the rest of the meeting time is for your writing!</p><p>To
	 learn more and to register, visit <a href="https://eppic.la.psu.edu/ser
	vices/eppic-write-a-thon-new-in-spring-2022/">eppic.la.psu.edu</a>.</p><
	p>For more details: <a href='https://events.la.psu.edu/event/new_writing
	_group_eppic_write-a-thon/'>https://events.la.psu.edu/event/new_writing_
	group_eppic_write-a-thon/</a></p></body></html>
URL:https://eppic.la.psu.edu/services/eppic-conversations-focus-on-interacti
	on/
LOCATION:E-403, Paterno Library
END:VEVENT
END:VCALENDAR