BEGIN:VCALENDAR
VERSION:2.0
PRODID:-//events.la.psu.edu//EN
CALSCALE:GREGORIAN
BEGIN:VTIMEZONE
TZID:America/New_York
BEGIN:STANDARD
DTSTART:20201101T020000
TZOFFSETFROM:-0400
TZOFFSETTO:-0500
RRULE:FREQ=YEARLY;BYMONTH=11;BYDAY=1SU
END:STANDARD
BEGIN:DAYLIGHT
DTSTART:20200308T020000
TZOFFSETFROM:-0500
TZOFFSETTO:-0400
RRULE:FREQ=YEARLY;BYMONTH=3;BYDAY=2SU
END:DAYLIGHT
END:VTIMEZONE
BEGIN:VEVENT
UID:18158-4ce3e5890a212f546fa166826c9878d8@events.la.psu.edu
DTSTAMP:20260421T022526Z
DTSTART;TZID=America/New_York:20260120T110000
DTEND;TZID=America/New_York:20260120T140000
SUMMARY:New Year, New Plan: Motivation and Accountability Drop-Ins
DESCRIPTION:\nStart the semester strong with drop-in support from a peer
	 success coach at the Liberal Arts Chaiken Center for Student Success. G
	et practical tools for motivation\, goal-setting\, and accountability to
	 help you stay on track all semester.\n\nFor more details: https://event
	s.la.psu.edu/event/new-year-new-plan-2/
X-ALT-DESC;FMTTYPE=text/html:<html><head></head><body><p>Start the semes
	ter strong with drop-in support from a peer success coach at the Liberal
	 Arts Chaiken Center for Student Success. Get practical tools for motiva
	tion, goal-setting, and accountability to help you stay on track all sem
	ester.</p><p>For more details: <a href='https://events.la.psu.edu/event/
	new-year-new-plan-2/'>https://events.la.psu.edu/event/new-year-new-plan-
	2/</a></p></body></html>
LOCATION:Liberal Arts Chaiken Center for Student Success, 139 Sparks Building
END:VEVENT
BEGIN:VEVENT
UID:18158-35ce9d1d54aab87ebc67f40dfe6c0ccc@events.la.psu.edu
DTSTAMP:20260421T022526Z
DTSTART;TZID=America/New_York:20260121T100000
DTEND;TZID=America/New_York:20260121T130000
SUMMARY:New Year, New Plan: Motivation and Accountability Drop-Ins
DESCRIPTION:\nStart the semester strong with drop-in support from a peer
	 success coach at the Liberal Arts Chaiken Center for Student Success. G
	et practical tools for motivation\, goal-setting\, and accountability to
	 help you stay on track all semester.\n\nFor more details: https://event
	s.la.psu.edu/event/new-year-new-plan-2/
X-ALT-DESC;FMTTYPE=text/html:<html><head></head><body><p>Start the semes
	ter strong with drop-in support from a peer success coach at the Liberal
	 Arts Chaiken Center for Student Success. Get practical tools for motiva
	tion, goal-setting, and accountability to help you stay on track all sem
	ester.</p><p>For more details: <a href='https://events.la.psu.edu/event/
	new-year-new-plan-2/'>https://events.la.psu.edu/event/new-year-new-plan-
	2/</a></p></body></html>
LOCATION:Liberal Arts Chaiken Center for Student Success, 139 Sparks Building
END:VEVENT
BEGIN:VEVENT
UID:18158-4d0f9ca50db4a98460c0dad73a944f44@events.la.psu.edu
DTSTAMP:20260421T022526Z
DTSTART;TZID=America/New_York:20260122T170000
DTEND;TZID=America/New_York:20260122T200000
SUMMARY:New Year, New Plan: Motivation and Accountability Drop-Ins
DESCRIPTION:\nStart the semester strong with drop-in support from a peer
	 success coach at the Liberal Arts Chaiken Center for Student Success. G
	et practical tools for motivation\, goal-setting\, and accountability to
	 help you stay on track all semester.\n\nFor more details: https://event
	s.la.psu.edu/event/new-year-new-plan-2/
X-ALT-DESC;FMTTYPE=text/html:<html><head></head><body><p>Start the semes
	ter strong with drop-in support from a peer success coach at the Liberal
	 Arts Chaiken Center for Student Success. Get practical tools for motiva
	tion, goal-setting, and accountability to help you stay on track all sem
	ester.</p><p>For more details: <a href='https://events.la.psu.edu/event/
	new-year-new-plan-2/'>https://events.la.psu.edu/event/new-year-new-plan-
	2/</a></p></body></html>
LOCATION:Liberal Arts Chaiken Center for Student Success, 139 Sparks Building
END:VEVENT
BEGIN:VEVENT
UID:18158-7f0b0a4deb3656f8be7257f818329cc7@events.la.psu.edu
DTSTAMP:20260421T022526Z
DTSTART;TZID=America/New_York:20260123T140000
DTEND;TZID=America/New_York:20260123T170000
SUMMARY:New Year, New Plan: Motivation and Accountability Drop-Ins
DESCRIPTION:\nStart the semester strong with drop-in support from a peer
	 success coach at the Liberal Arts Chaiken Center for Student Success. G
	et practical tools for motivation\, goal-setting\, and accountability to
	 help you stay on track all semester.\n\nFor more details: https://event
	s.la.psu.edu/event/new-year-new-plan-2/
X-ALT-DESC;FMTTYPE=text/html:<html><head></head><body><p>Start the semes
	ter strong with drop-in support from a peer success coach at the Liberal
	 Arts Chaiken Center for Student Success. Get practical tools for motiva
	tion, goal-setting, and accountability to help you stay on track all sem
	ester.</p><p>For more details: <a href='https://events.la.psu.edu/event/
	new-year-new-plan-2/'>https://events.la.psu.edu/event/new-year-new-plan-
	2/</a></p></body></html>
LOCATION:Liberal Arts Chaiken Center for Student Success, 139 Sparks Building
END:VEVENT
END:VCALENDAR