BEGIN:VCALENDAR
VERSION:2.0
PRODID:-//events.la.psu.edu//EN
CALSCALE:GREGORIAN
BEGIN:VTIMEZONE
TZID:America/New_York
BEGIN:STANDARD
DTSTART:20201101T020000
TZOFFSETFROM:-0400
TZOFFSETTO:-0500
RRULE:FREQ=YEARLY;BYMONTH=11;BYDAY=1SU
END:STANDARD
BEGIN:DAYLIGHT
DTSTART:20200308T020000
TZOFFSETFROM:-0500
TZOFFSETTO:-0400
RRULE:FREQ=YEARLY;BYMONTH=3;BYDAY=2SU
END:DAYLIGHT
END:VTIMEZONE
BEGIN:VEVENT
UID:15873-969c4029be1b82d62209db174cec41ef@events.la.psu.edu
DTSTAMP:20260426T024621Z
DTSTART;TZID=America/New_York:20250824T110000
DTEND;TZID=America/New_York:20250824T130000
SUMMARY:New Student Welcome 
DESCRIPTION:\nAll incoming first-year\, change-of-campus\, and transfer 
	Liberal Arts undergraduate students are invited to attend the New Studen
	t Welcome to meet and hear from our faculty\, staff\, and current studen
	ts. \n\nFor more details: https://events.la.psu.edu/event/new-student-we
	lcome/
X-ALT-DESC;FMTTYPE=text/html:<html><head></head><body><p><span data-cont
	rast="auto">All incoming first-year, change-of-campus, and transfer Libe
	ral Arts undergraduate students are invited to attend the New Student We
	lcome to meet and hear from our faculty, staff, and current students.</s
	pan><span data-ccp-props="{}"> </span></p><p>For more details: <a href='
	https://events.la.psu.edu/event/new-student-welcome/'>https://events.la.
	psu.edu/event/new-student-welcome/</a></p></body></html>
LOCATION:Alumni Hall, HUB-Robeson Center
END:VEVENT
END:VCALENDAR