BEGIN:VCALENDAR
VERSION:2.0
PRODID:-//events.la.psu.edu//EN
CALSCALE:GREGORIAN
BEGIN:VTIMEZONE
TZID:America/New_York
BEGIN:STANDARD
DTSTART:20201101T020000
TZOFFSETFROM:-0400
TZOFFSETTO:-0500
RRULE:FREQ=YEARLY;BYMONTH=11;BYDAY=1SU
END:STANDARD
BEGIN:DAYLIGHT
DTSTART:20200308T020000
TZOFFSETFROM:-0500
TZOFFSETTO:-0400
RRULE:FREQ=YEARLY;BYMONTH=3;BYDAY=2SU
END:DAYLIGHT
END:VTIMEZONE
BEGIN:VEVENT
UID:17547-b34da2255d84d24c208163d34eea724b@events.la.psu.edu
DTSTAMP:20260419T132529Z
DTSTART;TZID=America/New_York:20251020T180000
DTEND;TZID=America/New_York:20251020T190000
SUMMARY:Mindfulness Monday: Spooky Journaling
DESCRIPTION:\nExplore themed prompts like “What fears am I ready to let 
	go of?” Then rip or shred your pages to release them.\n\nFor more detail
	s: https://events.la.psu.edu/event/mm-102025/
X-ALT-DESC;FMTTYPE=text/html:<html><head></head><body><p>Explore themed 
	prompts like “What fears am I ready to let go of?” Then rip or shred you
	r pages to release them.</p><p>For more details: <a href='https://events
	.la.psu.edu/event/mm-102025/'>https://events.la.psu.edu/event/mm-102025/
	</a></p></body></html>
LOCATION:Chaiken Center for Student Success, 139 Sparks Building
END:VEVENT
END:VCALENDAR