BEGIN:VCALENDAR
VERSION:2.0
PRODID:-//events.la.psu.edu//EN
CALSCALE:GREGORIAN
BEGIN:VTIMEZONE
TZID:America/New_York
BEGIN:STANDARD
DTSTART:20201101T020000
TZOFFSETFROM:-0400
TZOFFSETTO:-0500
RRULE:FREQ=YEARLY;BYMONTH=11;BYDAY=1SU
END:STANDARD
BEGIN:DAYLIGHT
DTSTART:20200308T020000
TZOFFSETFROM:-0500
TZOFFSETTO:-0400
RRULE:FREQ=YEARLY;BYMONTH=3;BYDAY=2SU
END:DAYLIGHT
END:VTIMEZONE
BEGIN:VEVENT
UID:2879-981ea104b7823ba83c661f5564005848@events.la.psu.edu
DTSTAMP:20260421T045354Z
DTSTART;TZID=America/New_York:20231108T160000
DTEND;TZID=America/New_York:20231108T180000
SUMMARY:Mentoring for the Future
DESCRIPTION:\nMentoring for the Future (MFF) aims to bring diversity to 
	academia by introducing undergraduate students from diverse backgrounds 
	to graduate school by offering a free exploratory workshop.\n\nContact m
	entoringforthefuture@psu.edu&nbsp\;for more information.\n\nFor more det
	ails: https://events.la.psu.edu/event/mentoring_for_the_future_11-8-23/
X-ALT-DESC;FMTTYPE=text/html:<html><head></head><body><p>Mentoring for t
	he Future (MFF) aims to bring diversity to academia by introducing under
	graduate students from diverse backgrounds to graduate school by offerin
	g a free exploratory workshop.</p><p>Contact <a href="mailto:mentoringfo
	rthefuture@psu.edu">mentoringforthefuture@psu.edu</a>&nbsp;for more info
	rmation.</p><p>For more details: <a href='https://events.la.psu.edu/even
	t/mentoring_for_the_future_11-8-23/'>https://events.la.psu.edu/event/men
	toring_for_the_future_11-8-23/</a></p></body></html>
LOCATION:227 Burrowes Building
END:VEVENT
END:VCALENDAR