BEGIN:VCALENDAR
VERSION:2.0
PRODID:-//events.la.psu.edu//EN
CALSCALE:GREGORIAN
BEGIN:VTIMEZONE
TZID:America/New_York
BEGIN:STANDARD
DTSTART:20201101T020000
TZOFFSETFROM:-0400
TZOFFSETTO:-0500
RRULE:FREQ=YEARLY;BYMONTH=11;BYDAY=1SU
END:STANDARD
BEGIN:DAYLIGHT
DTSTART:20200308T020000
TZOFFSETFROM:-0500
TZOFFSETTO:-0400
RRULE:FREQ=YEARLY;BYMONTH=3;BYDAY=2SU
END:DAYLIGHT
END:VTIMEZONE
BEGIN:VEVENT
UID:18878-bd6ca4339d3f864c50dc3f0f2c2f4dfc@events.la.psu.edu
DTSTAMP:20260424T013515Z
DTSTART;TZID=America/New_York:20260323T133000
DTEND;TZID=America/New_York:20260323T170000
SUMMARY:Consortium on Moral Decision-Making Workshop: Measuring Morality
DESCRIPTION:\nDuring this event\, we will bring together several speaker
	s to discuss measurement and methodology questions in the study of moral
	 decision-making. Speakers will deliver short-talks\, along with roundta
	ble discussions.\n\nSpeakers include:\n\nNick Byrd\, Ph.D. (Geisinger He
	alth Systems)\nPaige Amormino\, PhD. (Penn State\, Prevention Research C
	enter)\nVlad Chituc\, Ph.D. (Yale University)\nRaluca Szekely\, Ph.D. (R
	omanian Academy)\nFaruk Yalcin\, M.S. (Penn State\, Psychology)\nBecca R
	uger\, M.S. (Penn State\, Psychology and Social Data Analytics)\nJillian
	 Meyer\, B.A. (Indiana University\, Psychology and Cognitive Science)\nB
	en Hardin\, B.A. (Washington University in St. Louis\, Psychology)\n\nFo
	r more details: https://events.la.psu.edu/event/measuring-morality/
X-ALT-DESC;FMTTYPE=text/html:<html><head></head><body><p>During this eve
	nt, we will bring together several speakers to discuss measurement and m
	ethodology questions in the study of moral decision-making. Speakers wil
	l deliver short-talks, along with roundtable discussions.</p><p>Speakers
	 include:</p><ul><li><a href="https://byrdnick.com/"><strong>Nick Byrd</
	strong></a>, Ph.D. (Geisinger Health Systems)</li><li><a href="https://w
	ww.paigeamormino.com/"><strong>Paige Amormino</strong></a>, PhD. (Penn S
	tate, Prevention Research Center)</li><li><a href="https://vladchituc.co
	m/"><strong>Vlad Chituc</strong></a>, Ph.D. (Yale University)</li><li><s
	trong><a href="https://sites.google.com/view/ralucaszekely/">Raluca Szek
	ely</a></strong>, Ph.D. (Romanian Academy)</li><li><strong><a href="http
	s://emplab.la.psu.edu/people/faruk-yalcin/">Faruk Yalcin</a></strong>, M
	.S. (Penn State, Psychology)</li><li><a href="https://psych.la.psu.edu/p
	eople/rebecca-ruger/"><strong>Becca Ruger</strong></a>, M.S. (Penn State
	, Psychology and Social Data Analytics)</li><li><strong><a href="https:/
	/psych.indiana.edu/directory/graduate-students/meyer-jillian.html">Jilli
	an Meyer</a></strong>, B.A. (Indiana University, Psychology and Cognitiv
	e Science)</li><li><strong><a href="https://psych.wustl.edu/people/benja
	min-hardin">Ben Hardin</a></strong>, B.A. (Washington University in St. 
	Louis, Psychology)</li></ul><p>For more details: <a href='https://events
	.la.psu.edu/event/measuring-morality/'>https://events.la.psu.edu/event/m
	easuring-morality/</a></p></body></html>
URL:https://moralconsortium.psu.edu
LOCATION:124 Sparks Building
END:VEVENT
END:VCALENDAR