BEGIN:VCALENDAR
VERSION:2.0
PRODID:-//events.la.psu.edu//EN
CALSCALE:GREGORIAN
BEGIN:VTIMEZONE
TZID:America/New_York
BEGIN:STANDARD
DTSTART:20201101T020000
TZOFFSETFROM:-0400
TZOFFSETTO:-0500
RRULE:FREQ=YEARLY;BYMONTH=11;BYDAY=1SU
END:STANDARD
BEGIN:DAYLIGHT
DTSTART:20200308T020000
TZOFFSETFROM:-0500
TZOFFSETTO:-0400
RRULE:FREQ=YEARLY;BYMONTH=3;BYDAY=2SU
END:DAYLIGHT
END:VTIMEZONE
BEGIN:VEVENT
UID:5181-b00a019903b18267912eea17ac67c0a8@events.la.psu.edu
DTSTAMP:20260420T100914Z
DTSTART;TZID=America/New_York:20210304T120000
DTEND;TZID=America/New_York:20210304T130000
SUMMARY:Master of Public Policy Program Info Session
DESCRIPTION:\nJoin us for one of our upcoming webinar sessions about Pen
	n State&#39\;s Master of Public Policy degree program. Our enrollment an
	d advising manager\, a current MPP student\, and a member of the School 
	of Public Policy faculty will discuss the Master of Public Policy (MPP) 
	program\, curriculum\, degree requirements\, career options and earnings
	 for grads\, the application process\, opportunities for undergraduates\
	, life at Penn State\, and more! They&#39\;ll also take YOUR questions.\
	n\nhttp://publicpolicy.psu.edu/sessionmarch4\n\nFor more details: https:
	//events.la.psu.edu/event/master_of_public_policy_program_info_session_7
	894/
X-ALT-DESC;FMTTYPE=text/html:<html><head></head><body><p>Join us for one
	 of our upcoming webinar sessions about Penn State&#39;s Master of Publi
	c Policy degree program. Our enrollment and advising manager, a current 
	MPP student, and a member of the School of Public Policy faculty will di
	scuss the Master of Public Policy (MPP) program, curriculum, degree requ
	irements, career options and earnings for grads, the application process
	, opportunities for undergraduates, life at Penn State, and more! They&#
	39;ll also take YOUR questions.</p><p><a href="http://publicpolicy.psu.e
	du/sessionmarch4">http://publicpolicy.psu.edu/sessionmarch4</a></p><p>Fo
	r more details: <a href='https://events.la.psu.edu/event/master_of_publi
	c_policy_program_info_session_7894/'>https://events.la.psu.edu/event/mas
	ter_of_public_policy_program_info_session_7894/</a></p></body></html>
URL:https://publicpolicy.psu.edu/virtual-events
END:VEVENT
END:VCALENDAR