BEGIN:VCALENDAR
VERSION:2.0
PRODID:-//events.la.psu.edu//EN
CALSCALE:GREGORIAN
BEGIN:VTIMEZONE
TZID:America/New_York
BEGIN:STANDARD
DTSTART:20201101T020000
TZOFFSETFROM:-0400
TZOFFSETTO:-0500
RRULE:FREQ=YEARLY;BYMONTH=11;BYDAY=1SU
END:STANDARD
BEGIN:DAYLIGHT
DTSTART:20200308T020000
TZOFFSETFROM:-0500
TZOFFSETTO:-0400
RRULE:FREQ=YEARLY;BYMONTH=3;BYDAY=2SU
END:DAYLIGHT
END:VTIMEZONE
BEGIN:VEVENT
UID:16024-10fc0c25a4db89b20b94f5c76d65ac74@events.la.psu.edu
DTSTAMP:20260424T032732Z
DTSTART;TZID=America/New_York:20250910T120000
DTEND;TZID=America/New_York:20250910T120000
SUMMARY:Master Zotero Before Your First Paper
DESCRIPTION:\nStart the semester strong by learning the citation managem
	ent tool that will save you hours of work. Discover how to effortlessly 
	collect sources\, organize research\, and generate perfect bibliographie
	s in any citation style. Perfect for new and returning students and facu
	lty who want to streamline their academic workflow from day one.\n\nFor 
	more details: https://events.la.psu.edu/event/master-zotero/
X-ALT-DESC;FMTTYPE=text/html:<html><head></head><body><p>Start the semes
	ter strong by learning the citation management tool that will save you h
	ours of work. Discover how to effortlessly collect sources, organize res
	earch, and generate perfect bibliographies in any citation style. Perfec
	t for new and returning students and faculty who want to streamline thei
	r academic workflow from day one.</p><p>For more details: <a href='https
	://events.la.psu.edu/event/master-zotero/'>https://events.la.psu.edu/eve
	nt/master-zotero/</a></p></body></html>
END:VEVENT
END:VCALENDAR