BEGIN:VCALENDAR
VERSION:2.0
PRODID:-//events.la.psu.edu//EN
CALSCALE:GREGORIAN
BEGIN:VTIMEZONE
TZID:America/New_York
BEGIN:STANDARD
DTSTART:20201101T020000
TZOFFSETFROM:-0400
TZOFFSETTO:-0500
RRULE:FREQ=YEARLY;BYMONTH=11;BYDAY=1SU
END:STANDARD
BEGIN:DAYLIGHT
DTSTART:20200308T020000
TZOFFSETFROM:-0500
TZOFFSETTO:-0400
RRULE:FREQ=YEARLY;BYMONTH=3;BYDAY=2SU
END:DAYLIGHT
END:VTIMEZONE
BEGIN:VEVENT
UID:15996-4a047970b318cf51926cd30a17f848a9@events.la.psu.edu
DTSTAMP:20260426T041817Z
DTSTART;TZID=America/New_York:20250920T083000
DTEND;TZID=America/New_York:20250920T150000
SUMMARY:Local Government Expo
DESCRIPTION:\nJoin us for the inaugural Local Government Expo\, an excit
	ing opportunity to explore careers\, internships\, and pathways in local
	 government while connecting directly with professionals shaping policy 
	in our communities. Local governments play a critical role in addressing
	 today’s most pressing policy challenges—from infrastructure and economi
	c development to public health and sustainability—making these connectio
	ns invaluable for students pursuing careers in public service.\n\nFollow
	ing the career fair\, students are invited to participate in an interact
	ive policy simulation where they can experience the decision-making proc
	ess firsthand\, tackling real-world issues and seeing how policy is deve
	loped\, negotiated\, and implemented.\n\nDon’t miss this chance to netwo
	rk\, learn\, and engage with the people and policies making an impact at
	 the local level!\n\nFor more details: https://events.la.psu.edu/event/l
	ocal-gov-expo/
X-ALT-DESC;FMTTYPE=text/html:<html><head></head><body><p>Join us for the
	 inaugural Local Government Expo, an exciting opportunity to explore car
	eers, internships, and pathways in local government while connecting dir
	ectly with professionals shaping policy in our communities. Local govern
	ments play a critical role in addressing today’s most pressing policy ch
	allenges—from infrastructure and economic development to public health a
	nd sustainability—making these connections invaluable for students pursu
	ing careers in public service.</p><p>Following the career fair, students
	 are invited to participate in an interactive policy simulation where th
	ey can experience the decision-making process firsthand, tackling real-w
	orld issues and seeing how policy is developed, negotiated, and implemen
	ted.</p><p>Don’t miss this chance to network, learn, and engage with the
	 people and policies making an impact at the local level!</p><p>For more
	 details: <a href='https://events.la.psu.edu/event/local-gov-expo/'>http
	s://events.la.psu.edu/event/local-gov-expo/</a></p></body></html>
LOCATION:Gene and Roz Chaiken Lobby, Welch Building
END:VEVENT
END:VCALENDAR