BEGIN:VCALENDAR
VERSION:2.0
PRODID:-//events.la.psu.edu//EN
CALSCALE:GREGORIAN
BEGIN:VTIMEZONE
TZID:America/New_York
BEGIN:STANDARD
DTSTART:20201101T020000
TZOFFSETFROM:-0400
TZOFFSETTO:-0500
RRULE:FREQ=YEARLY;BYMONTH=11;BYDAY=1SU
END:STANDARD
BEGIN:DAYLIGHT
DTSTART:20200308T020000
TZOFFSETFROM:-0500
TZOFFSETTO:-0400
RRULE:FREQ=YEARLY;BYMONTH=3;BYDAY=2SU
END:DAYLIGHT
END:VTIMEZONE
BEGIN:VEVENT
UID:6734-1a525b30ece794e2d747637b9ca2ee32@events.la.psu.edu
DTSTAMP:20260421T202246Z
DTSTART;TZID=America/New_York:20181101T180000
DTEND;TZID=America/New_York:20181101T193000
SUMMARY:Liberal Arts Summer Study Abroad Information Session
DESCRIPTION:\nMake the most of your summer by studying abroad and earnin
	g academic credits on a Liberal Arts faculty-led summer study abroad pro
	gram. \n\nGlobal experiences can help you gain valuable intercultural sk
	ills that will enhance your future career. Join the Summer Study Abroad 
	Information Session to learn about the incredible opportunities that awa
	it you!\n\n	Get information about Liberal Arts enrichment funding\, fina
	ncial aid and the application process\n	Learn about the career benefits 
	of studying abroad\n	Speak with faculty leaders from more than a dozen L
	iberal Arts summer study abroad programs around the world and learn whic
	h program is best for you \n\nFor more details: https://events.la.psu.ed
	u/event/liberal_arts_summer_study_abroad_information_session/
X-ALT-DESC;FMTTYPE=text/html:<html><head></head><body><p>Make the most o
	f your summer by studying abroad and earning academic credits on a Liber
	al Arts faculty-led summer study abroad program. </p><p>Global experienc
	es can help you gain valuable intercultural skills that will enhance you
	r future career. Join the Summer Study Abroad Information Session to lea
	rn about the incredible opportunities that await you!</p><ul>	<li>Get in
	formation about Liberal Arts enrichment funding, financial aid and the a
	pplication process</li>	<li>Learn about the career benefits of studying 
	abroad</li>	<li>Speak with faculty leaders from more than a dozen Libera
	l Arts summer study abroad programs around the world and learn which pro
	gram is best for you </li></ul><p>For more details: <a href='https://eve
	nts.la.psu.edu/event/liberal_arts_summer_study_abroad_information_sessio
	n/'>https://events.la.psu.edu/event/liberal_arts_summer_study_abroad_inf
	ormation_session/</a></p></body></html>
LOCATION:104 Thomas Building
END:VEVENT
END:VCALENDAR