BEGIN:VCALENDAR
VERSION:2.0
PRODID:-//events.la.psu.edu//EN
CALSCALE:GREGORIAN
BEGIN:VTIMEZONE
TZID:America/New_York
BEGIN:STANDARD
DTSTART:20201101T020000
TZOFFSETFROM:-0400
TZOFFSETTO:-0500
RRULE:FREQ=YEARLY;BYMONTH=11;BYDAY=1SU
END:STANDARD
BEGIN:DAYLIGHT
DTSTART:20200308T020000
TZOFFSETFROM:-0500
TZOFFSETTO:-0400
RRULE:FREQ=YEARLY;BYMONTH=3;BYDAY=2SU
END:DAYLIGHT
END:VTIMEZONE
BEGIN:VEVENT
UID:5110-499a2a3e4f537e87874b69ca2e72534a@events.la.psu.edu
DTSTAMP:20260420T074925Z
DTSTART;TZID=America/New_York:20210324T173000
DTEND;TZID=America/New_York:20210324T184500
SUMMARY:Learn and Network Virtually in D.C.
DESCRIPTION:\n\nLiberal Arts undergraduates are invited to join the Care
	er Enrichment Network staff and Liberal Arts alumni for a virtual trek t
	o Washington\, D.C.&nbsp\; Students will learn more about careers in the
	 federal government\, the culture of Washington\, D.C. as well as have a
	n opportunity to network with alumni in diverse careers within different
	 departments/agencies. Anticipated agencies include FBI\, U.S. Departmen
	t of State\, U.S. Department of Defense\, U.S. Department of Veterans Af
	fairs\, etc. &nbsp\;\n\nIf interested in attending\, students should app
	ly by Wednesday\, March 10th.&nbsp\;\n\nApplications can be found here.&
	nbsp\;\n\nOnly complete applications will be reviewed. Students will be 
	contacted once all applications are reviewed.\n\nSpace is limited to 50 
	students to ensure the most benefit from the event.\n\nA list of partici
	pating alumni and Zoom link will be provided to those selected for the e
	vent.\n\nIf you have any questions\, please contact the Career Enrichmen
	t Network\, lanetwork@psu.edu or 814-865-1070.\n\nZoom link will be prov
	ided to those selected for the event. Pleae see above for application de
	tails.\n\nFor more details: https://events.la.psu.edu/event/learn_and_ne
	twork_virtually_in_dc/
X-ALT-DESC;FMTTYPE=text/html:<html><head></head><body><div id="dnf_class
	_values_workshop__description__widget"><p>Liberal Arts undergraduates ar
	e invited to join the Career Enrichment Network staff and Liberal Arts a
	lumni for a virtual trek to Washington, D.C.&nbsp; Students will learn m
	ore about careers in the federal government, the culture of Washington, 
	D.C. as well as have an opportunity to network with alumni in diverse ca
	reers within different departments/agencies. Anticipated agencies includ
	e FBI, U.S. Department of State, U.S. Department of Defense, U.S. Depart
	ment of Veterans Affairs, etc. &nbsp;</p><p><b>If interested in attendin
	g, students should apply by Wednesday, March 10th</b>.&nbsp;</p><p><a hr
	ef="https://forms.office.com/Pages/ResponsePage.aspx?id=RY30fNs9iUOpwcEV
	Um61LvgJc2f3J-5AnwbatmQrthtUNEpJMlhMT1FVTlRVVTlDV01JNE0zVlJaRi4u" target
	="_blank">Applications can be found here.</a>&nbsp;</p><p>Only complete 
	applications will be reviewed. Students will be contacted once all appli
	cations are reviewed.</p><p>Space is limited to 50 students to ensure th
	e most benefit from the event.</p><p>A list of participating alumni and 
	Zoom link will be provided to those selected for the event.</p><p>If you
	 have any questions, please contact the Career Enrichment Network, <a hr
	ef="mailto:lanetwork@psu.edu">lanetwork@psu.edu</a> or 814-865-1070.</p>
	</div><p>Zoom link will be provided to those selected for the event. Ple
	ae see above for application details.</p><p>For more details: <a href='h
	ttps://events.la.psu.edu/event/learn_and_network_virtually_in_dc/'>https
	://events.la.psu.edu/event/learn_and_network_virtually_in_dc/</a></p></b
	ody></html>
END:VEVENT
END:VCALENDAR