BEGIN:VCALENDAR
VERSION:2.0
PRODID:-//events.la.psu.edu//EN
CALSCALE:GREGORIAN
BEGIN:VTIMEZONE
TZID:America/New_York
BEGIN:STANDARD
DTSTART:20201101T020000
TZOFFSETFROM:-0400
TZOFFSETTO:-0500
RRULE:FREQ=YEARLY;BYMONTH=11;BYDAY=1SU
END:STANDARD
BEGIN:DAYLIGHT
DTSTART:20200308T020000
TZOFFSETFROM:-0500
TZOFFSETTO:-0400
RRULE:FREQ=YEARLY;BYMONTH=3;BYDAY=2SU
END:DAYLIGHT
END:VTIMEZONE
BEGIN:VEVENT
UID:19058-b62c542bd6ddcf1013112f6bc87c3bcb@events.la.psu.edu
DTSTAMP:20260421T151057Z
DTSTART;TZID=America/New_York:20260422T173000
DTEND;TZID=America/New_York:20260422T183000
SUMMARY:Internship Panel
DESCRIPTION:\nJoin the Liberal Arts Undergraduate Council for an Interns
	hip Panel featuring students who will share how they found and succeeded
	 in internships across a variety of fields. Hear practical advice\, lear
	n what to expect\, and get your questions answered during an interactive
	 Q&amp\;A. Whether you’re just starting your search or preparing for upc
	oming opportunities\, this session offers a valuable chance to gain insi
	ght and make connections.\n\nFor more details: https://events.la.psu.edu
	/event/lauc-internship-panel/
X-ALT-DESC;FMTTYPE=text/html:<html><head></head><body><p>Join the Libera
	l Arts Undergraduate Council for an Internship Panel featuring students 
	who will share how they found and succeeded in internships across a vari
	ety of fields. Hear practical advice, learn what to expect, and get your
	 questions answered during an interactive Q&amp;A. Whether you’re just s
	tarting your search or preparing for upcoming opportunities, this sessio
	n offers a valuable chance to gain insight and make connections.</p><p>F
	or more details: <a href='https://events.la.psu.edu/event/lauc-internshi
	p-panel/'>https://events.la.psu.edu/event/lauc-internship-panel/</a></p>
	</body></html>
LOCATION:134 HUB-Robeson Center
END:VEVENT
END:VCALENDAR