BEGIN:VCALENDAR
VERSION:2.0
PRODID:-//events.la.psu.edu//EN
CALSCALE:GREGORIAN
BEGIN:VTIMEZONE
TZID:America/New_York
BEGIN:STANDARD
DTSTART:20201101T020000
TZOFFSETFROM:-0400
TZOFFSETTO:-0500
RRULE:FREQ=YEARLY;BYMONTH=11;BYDAY=1SU
END:STANDARD
BEGIN:DAYLIGHT
DTSTART:20200308T020000
TZOFFSETFROM:-0500
TZOFFSETTO:-0400
RRULE:FREQ=YEARLY;BYMONTH=3;BYDAY=2SU
END:DAYLIGHT
END:VTIMEZONE
BEGIN:VEVENT
UID:3241-5727dc6ddcecfda721dee73241504d96@events.la.psu.edu
DTSTAMP:20260421T004322Z
DTSTART;TZID=America/New_York:20230809T160000
DTEND;TZID=America/New_York:20230809T160000
SUMMARY:Teaching Community Meetup: Sustainability Across the Curriculum with Bra
	ndi Robinson
DESCRIPTION:\nThe goals of the teaching community include fostering ongo
	ing learning\, academic learning\, social support\, and research develop
	ment in the domain of environmental sustainability.\n\nThe direction of 
	each meeting is guided by the group members and what they find most usef
	ul. Examples of what the community might do include: finding books and p
	odcasts to discuss and potentially add to syllabi and &quot\;deep diving
	&quot\; into classroom experiences to workshop adding sustainability to 
	courses across the college.&nbsp\;\n\nPlease email Janet Swim at&nbsp\;j
	ks4@psu.edu&nbsp\;to learn more about the program\, join the Canvas grou
	p\, or sign up for a workshop in August.\n\nPlease&nbsp\;email Janet Swi
	m&nbsp\;to be added to the Canvas page and gain access to the Zoom optio
	n.\n\nFor more details: https://events.la.psu.edu/event/lasc-tcm_080923/
X-ALT-DESC;FMTTYPE=text/html:<html><head></head><body><p>The goals of th
	e teaching community include fostering ongoing learning, academic learni
	ng, social support, and research development in the domain of environmen
	tal sustainability.</p><p>The direction of each meeting is guided by the
	 group members and what they find most useful. Examples of what the comm
	unity might do include: finding books and podcasts to discuss and potent
	ially add to syllabi and &quot;deep diving&quot; into classroom experien
	ces to workshop adding sustainability to courses across the college.&nbs
	p;</p><p>Please email Janet Swim at&nbsp;<a href="mailto:jks4@psu.edu">j
	ks4@psu.edu</a>&nbsp;to learn more about the program, join the Canvas gr
	oup, or sign up for a workshop in August.</p><p>Please&nbsp;<a href="htt
	p://jks4@psu.edu">email Janet Swim</a>&nbsp;to be added to the Canvas pa
	ge and gain access to the Zoom option.</p><p>For more details: <a href='
	https://events.la.psu.edu/event/lasc-tcm_080923/'>https://events.la.psu.
	edu/event/lasc-tcm_080923/</a></p></body></html>
URL:https://sustainability.la.psu.edu
LOCATION:130 Moore Building
END:VEVENT
END:VCALENDAR