BEGIN:VCALENDAR
VERSION:2.0
PRODID:-//events.la.psu.edu//EN
CALSCALE:GREGORIAN
BEGIN:VTIMEZONE
TZID:America/New_York
BEGIN:STANDARD
DTSTART:20201101T020000
TZOFFSETFROM:-0400
TZOFFSETTO:-0500
RRULE:FREQ=YEARLY;BYMONTH=11;BYDAY=1SU
END:STANDARD
BEGIN:DAYLIGHT
DTSTART:20200308T020000
TZOFFSETFROM:-0500
TZOFFSETTO:-0400
RRULE:FREQ=YEARLY;BYMONTH=3;BYDAY=2SU
END:DAYLIGHT
END:VTIMEZONE
BEGIN:VEVENT
UID:4609-3da6fe73e34198f71a0a33a18fd0c402@events.la.psu.edu
DTSTAMP:20260422T054831Z
DTSTART;TZID=America/New_York:20220209T160000
DTEND;TZID=America/New_York:20220209T210000
SUMMARY:Liberal Arts Ambassadors Headshots Benefiting THON
DESCRIPTION:\nIs your headshot photo getting a bit outdated? Get five he
	adshot photos taken and edited for only $5 at the Liberal Arts Ambassado
	rs&rsquo\; Headshots Benefiting THON fundraiser!&nbsp\;Students of all m
	ajors are welcome to attend. NOTE: In accordance with Penn State policy\
	, all individuals are required to wear face masks inside all campus buil
	dings\, regardless of their vaccination status.\n\nFor more details: htt
	ps://events.la.psu.edu/event/laa-headshots_0209/
X-ALT-DESC;FMTTYPE=text/html:<html><head></head><body><p>Is your headsho
	t photo getting a bit outdated? Get five headshot photos taken and edite
	d for only $5 at the Liberal Arts Ambassadors&rsquo; Headshots Benefitin
	g THON fundraiser!&nbsp;Students of all majors are welcome to attend. NO
	TE: In accordance with Penn State policy, all individuals are required t
	o wear face masks inside all campus buildings, regardless of their vacci
	nation status.</p><p>For more details: <a href='https://events.la.psu.ed
	u/event/laa-headshots_0209/'>https://events.la.psu.edu/event/laa-headsho
	ts_0209/</a></p></body></html>
LOCATION:215 Business Building
END:VEVENT
END:VCALENDAR