BEGIN:VCALENDAR
VERSION:2.0
PRODID:-//events.la.psu.edu//EN
CALSCALE:GREGORIAN
BEGIN:VTIMEZONE
TZID:America/New_York
BEGIN:STANDARD
DTSTART:20201101T020000
TZOFFSETFROM:-0400
TZOFFSETTO:-0500
RRULE:FREQ=YEARLY;BYMONTH=11;BYDAY=1SU
END:STANDARD
BEGIN:DAYLIGHT
DTSTART:20200308T020000
TZOFFSETFROM:-0500
TZOFFSETTO:-0400
RRULE:FREQ=YEARLY;BYMONTH=3;BYDAY=2SU
END:DAYLIGHT
END:VTIMEZONE
BEGIN:VEVENT
UID:6894-42e303d88fd30ddc0e887e6914205088@events.la.psu.edu
DTSTAMP:20260424T231058Z
DTSTART;TZID=America/New_York:20180823T110000
DTEND;TZID=America/New_York:20180823T160000
SUMMARY:Involvement Fair
DESCRIPTION:\nThe Involvement Fair is one of the best opportunities to g
	et involved in campus life at Penn State. Student Organizations set up d
	isplays and have members on site talk to visitors one on one about what 
	their organization does on campus. Involvement in co-curricular experien
	ces is one of the most important parts of having a successful college ca
	reer! You will make friends\, learn all about Penn State\, and develop i
	nvaluable skills you will use in life beyond Penn State. There are over 
	1\,000 student organizations to choose from. Wondering where to start? S
	tart at the Involvement Fair!\n\nFor more details: https://events.la.psu
	.edu/event/involvement_fair/
X-ALT-DESC;FMTTYPE=text/html:<html><head></head><body><p>The Involvement
	 Fair is one of the best opportunities to get involved in campus life at
	 Penn State. Student Organizations set up displays and have members on s
	ite talk to visitors one on one about what their organization does on ca
	mpus. Involvement in co-curricular experiences is one of the most import
	ant parts of having a successful college career! You will make friends, 
	learn all about Penn State, and develop invaluable skills you will use i
	n life beyond Penn State. There are over 1,000 student organizations to 
	choose from. Wondering where to start? Start at the Involvement Fair!</p
	><p>For more details: <a href='https://events.la.psu.edu/event/involveme
	nt_fair/'>https://events.la.psu.edu/event/involvement_fair/</a></p></bod
	y></html>
LOCATION:HUB-Robeson Center Lawn
END:VEVENT
END:VCALENDAR