BEGIN:VCALENDAR
VERSION:2.0
PRODID:-//events.la.psu.edu//EN
CALSCALE:GREGORIAN
BEGIN:VTIMEZONE
TZID:America/New_York
BEGIN:STANDARD
DTSTART:20201101T020000
TZOFFSETFROM:-0400
TZOFFSETTO:-0500
RRULE:FREQ=YEARLY;BYMONTH=11;BYDAY=1SU
END:STANDARD
BEGIN:DAYLIGHT
DTSTART:20200308T020000
TZOFFSETFROM:-0500
TZOFFSETTO:-0400
RRULE:FREQ=YEARLY;BYMONTH=3;BYDAY=2SU
END:DAYLIGHT
END:VTIMEZONE
BEGIN:VEVENT
UID:5993-eb46d22ef9fd524c314fc69e6e7c2334@events.la.psu.edu
DTSTAMP:20260419T234401Z
DTSTART;TZID=America/New_York:20191118T113000
DTEND;TZID=America/New_York:20191118T133000
SUMMARY:International Education Week Table
DESCRIPTION:\nEPPIC will be tabling in the HUB for International Educati
	on Week\n\nFor more details: https://events.la.psu.edu/event/internation
	al_education_week_table/
X-ALT-DESC;FMTTYPE=text/html:<html><head></head><body><p>EPPIC will be t
	abling in the HUB for International Education Week</p><p>For more detail
	s: <a href='https://events.la.psu.edu/event/international_education_week
	_table/'>https://events.la.psu.edu/event/international_education_week_ta
	ble/</a></p></body></html>
LOCATION:HUB-Robeson Center
END:VEVENT
END:VCALENDAR